BEGIN:VCALENDAR
VERSION:2.0
PRODID:-//ChamberMaster//Event Calendar 2.0//EN
METHOD:PUBLISH
X-PUBLISHED-TTL:P3D
REFRESH-INTERVAL:P3D
CALSCALE:GREGORIAN
BEGIN:VEVENT
DTSTART:20190905T113000Z
DTEND:20190905T133000Z
X-MICROSOFT-CDO-ALLDAYEVENT:FALSE
SUMMARY:Where Are My Customers Hiding? - Social Media Series
DESCRIPTION:Interested to learn where your customers are hiding in Social Media and how to target them more appropriately? Join us for this seminar hosted by Erica Dingeman\, Leader at Social Radiant.\n\n\n\nProgram supported by SUNY Adirondack\, Adirondack Regional Chamber of Commerce\, and Saratoga County Prosperity Partnership
X-ALT-DESC;FMTTYPE=text/html:Interested to learn where your customers are hiding in Social Media and how to&nbsp\;target them more appropriately? Join us for this seminar hosted by Erica Dingeman\, Leader at Social Radiant.<br />\n<br />\nProgram supported by SUNY Adirondack\, Adirondack Regional Chamber of Commerce\, and Saratoga County Prosperity Partnership<br />\n&nbsp\;
LOCATION:SUNY Adirondack 640 Bay Road Adirondack Hall\, Center for Entrepreneurship Queensbury\, NY 12804
UID:e.1842.3846
SEQUENCE:3
DTSTAMP:20260422T073627Z
URL:http://business.adirondackchamber.org/events/details/where-are-my-customers-hiding-social-media-series-3846
END:VEVENT

END:VCALENDAR
