BEGIN:VCALENDAR
VERSION:2.0
PRODID:-//ChamberMaster//Event Calendar 2.0//EN
METHOD:PUBLISH
X-PUBLISHED-TTL:P3D
REFRESH-INTERVAL:P3D
CALSCALE:GREGORIAN
BEGIN:VEVENT
DTSTART:20200428T140000Z
DTEND:20200428T150000Z
X-MICROSOFT-CDO-ALLDAYEVENT:FALSE
SUMMARY:Webinar: Navigating the New Federal and State Sick Leave Policies
DESCRIPTION:Please provide email address with registration. A link to the GoToMeeting event will be emailed to you prior to Tuesday\, April 28\, 2020. Thank you.\n\n\n\nEmployers and their human resources departments need answers to HR questions related to implementing new sick leave and other programs during the COVID-19 crisis.  \n\n        How do workers maintain "social distancing" and remain productive?\n\n        Are split or staggered shifts recommended or required?\n\n        What is hazard pay and is it required?\n\n        An employee informs us they are sick.  What do I do?\n\n        How much sick time do I give my employees under both the Federal and NYS sick leave programs?\n\n        How do I track my PPP spending and how do I spend it?\n\n        Can I really take everyone's temperature before coming to work?  What are the best practices?\n\n \n\nJoin the Adirondack Regional Chamber of Commerce as we talk to Rose Miller and John Monteiro of Pinnacle Human Resources\, who will answer frequently asked questions.  Receive some expert advice from our local professionals.\n\n\n\nPlease provide email address with registration. A link to the GoToMeeting event will be emailed to you prior to Tuesday\, April 28\, 2020. Thank you.
X-ALT-DESC;FMTTYPE=text/html:<div><em style="color: rgb(102\, 0\, 255)\;"><strong>Please provide email address with registration. A link to the GoToMeeting event will be emailed to you prior to Tuesday\, April 28\, 2020. Thank you.</strong></em><br />\n<br />\nEmployers and their human resources departments need answers to HR questions related to implementing new sick leave and other programs during the COVID-19 crisis. &nbsp\;</div>\n\n<div>&middot\;&nbsp\;&nbsp\;&nbsp\;&nbsp\;&nbsp\;&nbsp\;&nbsp\;How do workers maintain &quot\;social distancing&quot\; and remain productive?</div>\n\n<div>&middot\;&nbsp\;&nbsp\;&nbsp\;&nbsp\;&nbsp\;&nbsp\;&nbsp\;Are split or staggered shifts recommended or required?</div>\n\n<div>&middot\;&nbsp\;&nbsp\;&nbsp\;&nbsp\;&nbsp\;&nbsp\;&nbsp\;What is hazard pay and is it required?</div>\n\n<div>&middot\;&nbsp\;&nbsp\;&nbsp\;&nbsp\;&nbsp\;&nbsp\;&nbsp\;An employee informs us they&nbsp\;are&nbsp\;sick.&nbsp\; What do I do?</div>\n\n<div>&middot\;&nbsp\;&nbsp\;&nbsp\;&nbsp\;&nbsp\;&nbsp\;&nbsp\;How much sick time do I give my employees under both the Federal and NYS sick leave programs?</div>\n\n<div>&middot\;&nbsp\;&nbsp\;&nbsp\;&nbsp\;&nbsp\;&nbsp\;&nbsp\;How do I track my PPP spending and how do I spend&nbsp\;it?</div>\n\n<div>&middot\;&nbsp\;&nbsp\;&nbsp\;&nbsp\;&nbsp\;&nbsp\;&nbsp\;Can I really take everyone&rsquo\;s temperature before coming to work?&nbsp\; What are the best practices?</div>\n\n<div>&nbsp\;</div>\n\n<div>Join the Adirondack Regional Chamber of Commerce as we talk to Rose Miller and John Monteiro of <a href="https://www.pinnaclehrllc.com/" target="_blank">Pinnacle Human Resources</a>\, who will answer frequently asked questions.&nbsp\; Receive some expert advice from our local professionals.<br />\n<br />\n<span style="color:#6600ff\;"><em><strong>Please provide email address with registration. A link to the GoToMeeting event will be emailed to you prior to Tuesday\, April 28\, 2020. Thank you.</strong></em></span></div>\n
LOCATION:Online via GoToMeeting Link will be emailed to you after registering
UID:e.1842.3966
SEQUENCE:3
DTSTAMP:20260421T202520Z
URL:http://business.adirondackchamber.org/events/details/webinar-navigating-the-new-federal-and-state-sick-leave-policies-3966
END:VEVENT

END:VCALENDAR
