BEGIN:VCALENDAR
VERSION:2.0
PRODID:-//ChamberMaster//Event Calendar 2.0//EN
METHOD:PUBLISH
X-PUBLISHED-TTL:P3D
REFRESH-INTERVAL:P3D
CALSCALE:GREGORIAN
BEGIN:VEVENT
DTSTART:20220302T220000Z
DTEND:20220303T000000Z
X-MICROSOFT-CDO-ALLDAYEVENT:FALSE
SUMMARY:Veterans Business Network March 2022 OPEN CALL Meeting
DESCRIPTION:Here's an opportunity for you to connect with the VBN leadership and members!\n\n\n\n\nThe ARCC understands that supporting our Veteran community is important to our members\, for both those who have served and those who have not. As part of our VBN outreach\, we will welcome non-Veteran ARCC Members to join us several times throughout the year. This event is open to all ARCC members\, so please come out to meet and mingle in the casual atmosphere of Veteran-Owned & Operated Slickfin Brewing Company! \n\n \n***PLEASE REGISTER ONLINE FOR THIS FREE EVENT!***\n\n\n\n\nJoin us for our ARCC Veterans Business Network  Meeting - OPEN TO ALL ARCC MEMBERS!\n\nWHEN:  Wednesday March 2\, 2022 \n\nTIME: 5 pm - 7 pm\n\nWHERE: Slickfin Brewing Company  \n\n\n\n\n\n\n\nIf you are not a Veteran but are interested in supporting the VBN through sponsorship\, please contact the ARCC VBN Liaison\, Carol Ann Conover\, at 518-798-1761.\n\n\n\n\n\nAbout the Veterans Business Network:\n\nThe purpose of the Adirondack Regional Chamber of Commerce's Veterans Business Network is to promote and to serve the affinity group of Veteran and military service personnel\,  veteran and military member sole proprietorships\, and veteran and military service professional members of the ARCC and to encourage increased business and collaboration among its ranks.\n\n \n\nBy promoting the ARCC's four pillars of advocacy\, education\, connection and collaboration\, we will have the ability to attract more veterans and military professionals to the ARCC with an intent to develop and track metrics that can be used by the ARCC to promote its support for veterans military service members in business\, to support in collaboration the educational and mental health outreach and mission of other local veteran business communities\, specifically\, neighboring chambers\, and to develop mentoring\, educational and entrepreneurial opportunities for veterans and military service members while fostering growth opportunities with a focus on performance (revenue growth\, employee growth\, etc.) of service member-owned enterprises\, military-owned sole proprietorships\, and post-military professionals in the ARCC service area.\n\n\n\nInterested in joining the VBN but are not an ARCC Member yet?\n\nYou're welcome to join us\, meet some current members and learn how the ARCC works for businesses and Veterans in our region!
X-ALT-DESC;FMTTYPE=text/html:<div style="text-align: center\;"><span style="font-size:18px\;"><span style="color:#B22222\;"><strong><span style="font-family: tahoma\; background-color: rgb(255\, 255\, 255)\;">Here&#39\;s an opportunity for you to connect with the VBN leadership and members!</span></strong></span></span></div>\n<br />\n<br />\n<span style="font-size:12px\;"><span style="font-family:tahoma\;"><span style="background:white\;">The ARCC understands that supporting our Veteran community is important to our members\, for both those who have served and those who </span></span></span><span style="color: rgb(51\, 51\, 51)\; font-family: tahoma\; font-size: 12px\; background-color: rgb(255\, 255\, 255)\;">have not.</span><span style="font-size:12px\;"><span style="font-family:tahoma\;"><span style="background:white\;">&nbsp\;As part of our VBN outreach\, we will welcome non-Veteran ARCC Members to join us several times throughout the year. This event is open to all ARCC members\, so please come out to meet and mingle in the casual atmosphere of Veteran-Owned &amp\; Operated Slickfin Brewing Company!&nbsp\;</span></span></span><br />\n&nbsp\;\n<div style="text-align: center\;"><span style="font-size:12px\;"><span style="font-family:tahoma\;"><span style="background:white\;"><strong><span style="color:#B22222\;">***PLEASE REGISTER ONLINE FOR THIS FREE EVENT!***</span></strong></span></span></span></div>\n<br />\n<br />\n<span style="color: rgb(51\, 51\, 51)\; font-family: arial\; font-size: 12px\; background-color: rgb(255\, 255\, 255)\;">Join us for our ARCC Veterans Business Network&nbsp\; Meeting - OPEN TO ALL ARCC MEMBERS!<br />\nWHEN:&nbsp\; Wednesday March 2\, 2022&nbsp\;<br />\nTIME: 5 pm - 7 pm<br />\nWHERE: Slickfin Brewing Company </span><span style="color: rgb(51\, 51\, 51)\; font-family: arial\; font-size: 12px\; background-color: rgb(255\, 255\, 255)\;">&nbsp\;</span><br />\n<br />\n<br />\n<br />\n<span background-color:="" font-size:="" style="color: rgb(51\, 51\, 51)\; background-color: rgb(255\, 255\, 255)\; box-sizing: border-box\; font-weight: bolder\; outline: 0px\; font-family: Raleway\, sans-serif\; font-size: 16px\; letter-spacing: 0.5px\;" trebuchet=""><span style="box-sizing: border-box\; outline: 0px\; font-size: 18px\;"><span style="box-sizing: border-box\; outline: 0px\; color: rgb(178\, 34\, 34)\;">If you are not a Veteran but are interested in supporting the VBN through sponsorship\, please contact the ARCC VBN Liaison\, Carol Ann Conover\, at 518-798-1761.</span></span></span><br />\n<br />\n<br />\n<span style="color:#333333\;"><span style="font-family:georgia\,serif\;"><span style="font-size:12.0pt\;"><span style="font-size:12px\;"><strong>About the Veterans Business Network:</strong></span></span></span></span><br />\n<span style="font-size:12px\;"><span font-size:="" style="color: rgb(51\, 51\, 51)\; font-family: sans-serif\, Arial\, Verdana\, " trebuchet=""><span style="font-family: georgia\, serif\;">The purpose of the Adirondack Regional Chamber of Commerce&rsquo\;s Veterans Business Network is to promote and to serve the affinity group of Veteran and military service personnel\,&nbsp\; veteran and military member sole proprietorships\, and veteran and military service professional members of the ARCC and to encourage increased business and collaboration among its ranks.</span></span><br font-size:="" style="color: rgb(51\, 51\, 51)\; font-family: sans-serif\, Arial\, Verdana\, " trebuchet="" />\n<span background-color:="" font-size:="" style="color: rgb(51\, 51\, 51)\; font-family: sans-serif\, Arial\, Verdana\, " trebuchet="">&nbsp\;</span><br font-size:="" style="color: rgb(51\, 51\, 51)\; font-family: sans-serif\, Arial\, Verdana\, " trebuchet="" />\n<span font-size:="" style="color: rgb(51\, 51\, 51)\; font-family: sans-serif\, Arial\, Verdana\, " trebuchet=""><span style="font-family: georgia\, serif\;">By promoting the ARCC&rsquo\;s four pillars of advocacy\, education\, connection and collaboration\, we will have the ability to attract more veterans and military professionals to the ARCC with an intent to develop and track metrics that can be used by the ARCC to promote its support for veterans military service members in business\, to support in collaboration the educational and mental health outreach and mission of other local veteran business communities\, specifically\, neighboring chambers\, and to develop mentoring\, educational and entrepreneurial opportunities for veterans and military service members while fostering growth opportunities with a focus on performance (revenue growth\, employee growth\, etc.) of service member-owned enterprises\, military-owned sole proprietorships\, and post-military professionals in the ARCC service area.</span></span></span><br />\n<br />\n<span style="color:#0000FF\;"><span background-color:="" color:="" font-size:="" trebuchet=""><strong>Interested in joining the VBN but are not an ARCC Member yet?</strong></span></span><br background-color:="" font-size:="" style="color: rgb(51\, 51\, 51)\; font-family: sans-serif\, Arial\, Verdana\, " trebuchet="" />\n<strong background-color:="" font-size:="" style="color: rgb(51\, 51\, 51)\; font-family: sans-serif\, Arial\, Verdana\, " trebuchet="">You&#39\;re welcome to&nbsp\;join us\, meet some current members and learn how the ARCC works for businesses and Veterans in our region!</strong><br />\n&nbsp\;
LOCATION:Slick Fin Brewing Company 147 Broadway Fort Edward\, NY 12828
UID:e.1842.4186
SEQUENCE:3
DTSTAMP:20260420T071649Z
URL:http://business.adirondackchamber.org/events/details/veterans-business-network-march-2022-open-call-meeting-4186
END:VEVENT

END:VCALENDAR
