BEGIN:VCALENDAR
VERSION:2.0
PRODID:-//ChamberMaster//Event Calendar 2.0//EN
METHOD:PUBLISH
X-PUBLISHED-TTL:P3D
REFRESH-INTERVAL:P3D
CALSCALE:GREGORIAN
BEGIN:VEVENT
DTSTART:20200818T113000Z
DTEND:20200818T124500Z
X-MICROSOFT-CDO-ALLDAYEVENT:FALSE
SUMMARY:Traction Tuesdays: 5 Essential Leadership Skills\, presented by Wendy Waldron\, WaldronWorks
DESCRIPTION:Traction Tuesdays in the Adirondack Region is a professional development series for business owners and leaders interested in useful content\, community\, and connection. Each session will start with a set of tools you can use right away in your work.\n\n \n\nThe next\, and final in the Traction Tuesdays series is titled 5 Essential Leadership Skills\, presented by Wendy Waldron\, WaldronWorks.    \n\n \n\nWhen you register\, you will be emailed a Zoom link to bookmark. We will also send you an email reminder with the link the day before the Traction Tuesday event.
X-ALT-DESC;FMTTYPE=text/html:<div>Traction Tuesdays in the Adirondack Region is a professional development series for business owners and leaders interested in useful content\, community\, and connection. Each session will start with a set of tools you can use right away in your work.</div>\n\n<div>&nbsp\;</div>\n\n<div><strong>The next\, and final in the Traction Tuesdays series is titled <em>5 Essential Leadership Skills\,</em> presented by Wendy Waldron\, <a data-link-type="web" href="https://waldronworks.com/" rel="noopener noreferrer" target="_blank">WaldronWorks</a>.&nbsp\;&nbsp\;&nbsp\;&nbsp\;</strong></div>\n\n<div>&nbsp\;</div>\n\n<div>When you register\, you will be emailed a Zoom link to bookmark. We will also send you an email reminder with the link the day before the Traction Tuesday event.&nbsp\;&nbsp\;&nbsp\;&nbsp\;</div>\n
LOCATION:Virtual Presentation via Zoom
UID:e.1842.3982
SEQUENCE:3
DTSTAMP:20260421T123633Z
URL:http://business.adirondackchamber.org/events/details/traction-tuesdays-5-essential-leadership-skills-presented-by-wendy-waldron-waldronworks-3982
END:VEVENT

END:VCALENDAR
