BEGIN:VCALENDAR
VERSION:2.0
PRODID:-//ChamberMaster//Event Calendar 2.0//EN
METHOD:PUBLISH
X-PUBLISHED-TTL:P3D
REFRESH-INTERVAL:P3D
CALSCALE:GREGORIAN
BEGIN:VEVENT
DTSTART:20191210T220000Z
DTEND:20191211T010000Z
X-MICROSOFT-CDO-ALLDAYEVENT:FALSE
SUMMARY:Support the Trades - Leadership Adirondack Scholarship Fundraising Event
DESCRIPTION:Join the ARCC Leadership Adirondack Class as we support and develop a scholarship program for students seeking to advance their professional trade careers here in the Adirondack region. The Leadership Adirondack Class of 2019-2020 is committed to developing our region as an area recognized for promoting skilled trades. \n\n\n\nAll proceeds from this event will be used to fund the ARCC Leadership Adirondack Scholarship. This event will feature entertainment by local comedian Vinnie Mark\, live music by The Daley News\, silent auction\, light fare\, and a cash bar. \n\n\n\nDonations will be accepted. Please make checks payable to the Adirondack Regional Chamber of Commerce.
X-ALT-DESC;FMTTYPE=text/html:Join the ARCC Leadership Adirondack Class as we support and develop a scholarship program for students seeking to advance their professional trade careers here in the Adirondack region. The Leadership Adirondack Class of 2019-2020 is committed to developing our region as an area recognized for promoting skilled trades.&nbsp\;<br />\n<br />\nAll proceeds from this event will be used to fund the ARCC Leadership Adirondack Scholarship. This event will feature entertainment by local comedian Vinnie Mark\,&nbsp\;live music by The Daley News\, silent auction\, light fare\, and a cash bar.&nbsp\;<br />\n<br />\nDonations will be accepted. Please make checks payable to the Adirondack Regional Chamber of Commerce.
LOCATION:The Park Theater 14 Park Street Glens Falls\, NY 12801
UID:e.1842.3886
SEQUENCE:3
DTSTAMP:20260422T021339Z
URL:http://business.adirondackchamber.org/events/details/support-the-trades-leadership-adirondack-scholarship-fundraising-event-3886
END:VEVENT

END:VCALENDAR
