BEGIN:VCALENDAR
VERSION:2.0
PRODID:-//ChamberMaster//Event Calendar 2.0//EN
METHOD:PUBLISH
X-PUBLISHED-TTL:P3D
REFRESH-INTERVAL:P3D
CALSCALE:GREGORIAN
BEGIN:VEVENT
DTSTART:20181130T143000Z
DTEND:20181130T203000Z
X-MICROSOFT-CDO-ALLDAYEVENT:FALSE
SUMMARY:STEEAM AHEAD: A Celebration of Creativity and Innovation in STEAM Pursuits
DESCRIPTION:Don't miss this unique one-day mini-conference\, developed to celebrate and infuse a spirit of creativity and innovation into the realms of science\, technology\, engineering\, entrepreneurship\, arts and math (STEEAM). Lunch will be provided! Further details below. Pre-registration is required. STEEAM AHEAD is open to students\, faculty\, staff and community members ages 17 and older. Tickets are $5 for SUNY Adirondack students\, faculty & staff and $15 for general admission. Click here for conference details\, the program schedule\, and to register. \n\n \n\nThe event will include a keynote speech by Kevin R. (Randy) Stewart\, PhD: "Innovation in a Rapidly Changing World - Don't Believe Everything You Know." Following the keynote speech\, participants will engage in three sessions:\n\n	"The Science & Technology Adirondack Studios Uses to Generate a Creative Outcome" - a panel by the staff of Adirondack Studios in Argyle\, NY.\n	"Hands-On\, Minds-On STEAM Discovery" workshop by Catherine Gilbert\, Vice President of the Children's Museum of Science and Technology (CMOST) in Troy\, NY.\n	"STEEAM Into Business" workshop by Kate Baker\, Director of SUNY Adirondack Business Central.\n\nThis event is sponsored by the Touba Family Foundation and the SUNY Adirondack Foundation. \n\n \n\nQuestions? Contact Laura Scott at the Office of Continuing Education\, at scottl@sunyacc.edu or 518.743.2238.
X-ALT-DESC;FMTTYPE=text/html:<span style="font-family:arial\,sans-serif\;"><span style="font-size:10.0pt\;">Don&rsquo\;t miss this unique one-day mini-conference\, developed to celebrate and infuse a spirit of creativity and innovation into the realms of <strong>science\, technology\, engineering\, entrepreneurship\, arts and math (STEEAM). </strong>Lunch will be provided! Further details below. Pre-registration is required. STEEAM AHEAD is open to students\, faculty\, staff and community members ages 17 and older. Tickets are $5 for SUNY Adirondack students\, faculty &amp\; staff and $15 for general admission. <a href="https://www.eventbrite.com/e/steeam-ahead-a-celebration-of-creativity-and-innovation-in-stem-pursuits-tickets-50693850672" target="_blank"><strong>Click here for conference details\, the program schedule\, and to register.</strong></a> </span></span><br />\n&nbsp\;<br />\n<span style="font-family:arial\,sans-serif\;"><span style="font-size:10.0pt\;">The event will include a keynote speech by Kevin R. (Randy) Stewart\, PhD: <strong>&quot\;Innovation in a Rapidly Changing World - Don&rsquo\;t Believe Everything You Know.&quot\; </strong>Following the keynote speech\, participants will engage in three sessions:</span></span>\n<ul>\n	<li><strong>&ldquo\;The Science &amp\; Technology Adirondack Studios Uses to Generate a Creative Outcome&rdquo\;</strong> - a panel by the staff of Adirondack Studios in Argyle\, NY.</li>\n	<li><strong>&ldquo\;Hands-On\, Minds-On STEAM Discovery&rdquo\;</strong> workshop by Catherine Gilbert\, Vice President of the Children&#39\;s Museum of Science and Technology (CMOST) in Troy\, NY.</li>\n	<li><strong>&ldquo\;STEEAM Into Business&rdquo\; </strong>workshop by Kate Baker\, Director of SUNY Adirondack Business Central.</li>\n</ul>\n<span style="font-family:arial\,sans-serif\;"><span style="font-size:10.0pt\;">This event is sponsored by the Touba Family Foundation and the SUNY Adirondack Foundation. </span></span><br />\n&nbsp\;<br />\n<strong><span style="font-family:arial\,sans-serif\;"><span style="font-size:10.0pt\;">Questions?</span></span></strong><span style="font-family:arial\,sans-serif\;"><span style="font-size:10.0pt\;"> Contact Laura Scott at the Office of Continuing Education\, at </span></span><span style="font-family:calibri\,sans-serif\;"><span style="font-size:11.0pt\;"><a href="mailto:scottl@sunyacc.edu" target="_blank"><span style="font-family:arial\,sans-serif\;"><span style="font-size:10.0pt\;">scottl@sunyacc.edu</span></span></a></span></span><span style="font-family:arial\,sans-serif\;"><span style="font-size:10.0pt\;"> or 518.743.2238.</span></span>
LOCATION:SUNY Adirondack Northwest Bay Conference Center\, Adirondack Hall 640 Bay Road\, Queensbury\, NY 12804
UID:e.1842.3511
SEQUENCE:3
DTSTAMP:20260425T011825Z
URL:http://business.adirondackchamber.org/events/details/steeam-ahead-a-celebration-of-creativity-and-innovation-in-steam-pursuits-3511
END:VEVENT

END:VCALENDAR
