BEGIN:VCALENDAR
VERSION:2.0
PRODID:-//ChamberMaster//Event Calendar 2.0//EN
METHOD:PUBLISH
X-PUBLISHED-TTL:P3D
REFRESH-INTERVAL:P3D
CALSCALE:GREGORIAN
BEGIN:VEVENT
DTSTART:20191119T123000Z
DTEND:20191119T140000Z
X-MICROSOFT-CDO-ALLDAYEVENT:FALSE
SUMMARY:State of the County: Washington County
DESCRIPTION:Join us for a discussion with your Washington County elected officials. This moderated discussion will begin with opening statements\, followed by questions from the moderator and then the audience. The following Washington County elected officials will be in attendance:\n\n \n\n    - Washington County Chairman of the Board of Supervisors Bob Henke\n\n    - Washington County Budget Officer Supervisor Dan Shaw\n\n    - Washington County Administrator Chris DeBolt\n\n    - Washington County Treasurer Al Nolette\n\n\n\n*ARCC's Cancelation Policy: A registration is a reservation and we look forward to you joining us. To best support our venue partners and event attendees\, a refund for any reservation will require 72 hours notice for cancellation. Reserved no shows will be charged the full price. We encourage you to send a co-worker\, peer\, vendor or customer if you're not able to make it and giving notice wasn't optional.
X-ALT-DESC;FMTTYPE=text/html:<span style="color:#000000\;">Join us for a discussion with your Washington County elected officials. This moderated discussion will begin with opening statements\, followed by questions from the moderator and then the audience. The following Washington County elected officials will be in attendance:<br />\n&nbsp\;<br />\n&nbsp\;&nbsp\;&nbsp\; - Washington County Chairman of the Board of Supervisors Bob Henke<br />\n&nbsp\;&nbsp\;&nbsp\; - Washington County Budget Officer Supervisor Dan Shaw<br />\n&nbsp\;&nbsp\;&nbsp\; - Washington County Administrator Chris DeBolt</span><br />\n&nbsp\;<span style="color:#000000\;">&nbsp\;&nbsp\; - Washington County Treasurer Al Nolette<br />\n<br />\n<span style="font-size:12px\;"><em>*ARCC&#39\;s Cancelation Policy: A registration is a reservation and we look forward to you joining us. To best support our venue partners and event attendees\, a refund for any reservation will require 72 hours notice for cancellation. Reserved no shows will be charged the full price. We encourage you to send a co-worker\, peer\, vendor or customer if you&#39\;re not able to make it and giving notice wasn&#39\;t optional.</em></span></span>
LOCATION:The Strand Theatre 201 Main Street Hudson Falls\, NY 12839
UID:e.1842.3881
SEQUENCE:3
DTSTAMP:20260422T035734Z
URL:http://business.adirondackchamber.org/events/details/state-of-the-county-washington-county-3881
END:VEVENT

END:VCALENDAR
