BEGIN:VCALENDAR
VERSION:2.0
PRODID:-//ChamberMaster//Event Calendar 2.0//EN
METHOD:PUBLISH
X-PUBLISHED-TTL:P3D
REFRESH-INTERVAL:P3D
CALSCALE:GREGORIAN
BEGIN:VEVENT
DTSTART:20181107T123000Z
DTEND:20181107T140000Z
X-MICROSOFT-CDO-ALLDAYEVENT:FALSE
SUMMARY:State of the County - Washington County
DESCRIPTION:Join us for a discussion with your Washington County elected officials. This moderated discussion will begin with opening statements\, followed by questions from the moderator and then the audience. The following Washington County elected officials will be in attendance:\n\n\n\n    - Washington County Chairman of the Board of Supervisors Bob Henke\n\n    - Washington County Budget Officer Supervisor Dan Shaw\n\n    - Washington County Administrator Chris DeBolt
X-ALT-DESC;FMTTYPE=text/html:<span style="font-family:tahoma\;"><span style="font-size:14px\;">Join us for a discussion with your Washington County elected officials. This moderated discussion will begin with opening statements\, followed by questions from the moderator and then the audience. The following Washington County elected officials will be in attendance:</span><br />\n<br />\n&nbsp\;&nbsp\;&nbsp\;&nbsp\;- Washington County Chairman of the Board of Supervisors Bob Henke<br />\n&nbsp\;&nbsp\;&nbsp\; - Washington County Budget Officer Supervisor Dan Shaw<br />\n&nbsp\;&nbsp\;&nbsp\; - Washington County Administrator Chris DeBolt</span><br />\n&nbsp\;
LOCATION:Battle Hill Brewing Company 4 Charles Street Fort Ann\, NY 12827
UID:e.1842.3489
SEQUENCE:3
DTSTAMP:20260425T001536Z
URL:http://business.adirondackchamber.org/events/details/state-of-the-county-washington-county-3489
END:VEVENT

END:VCALENDAR
