BEGIN:VCALENDAR
VERSION:2.0
PRODID:-//ChamberMaster//Event Calendar 2.0//EN
METHOD:PUBLISH
X-PUBLISHED-TTL:P3D
REFRESH-INTERVAL:P3D
CALSCALE:GREGORIAN
BEGIN:VEVENT
DTSTART:20191121T123000Z
DTEND:20191121T140000Z
X-MICROSOFT-CDO-ALLDAYEVENT:FALSE
SUMMARY:State of the County: Warren County
DESCRIPTION:Join us for a discussion with your Warren County elected officials. This moderated discussion will begin with opening statements\, followed by questions from the moderator and then the audience. The following Warren County elected officials will be in attendance:\n\n \n\n    - Warren County Board of Supervisors Chairman Ron Conover\n\n    - Warren County Budget Officer Supervisor Frank Thomas\n\n    - Warren County Administrator Ryan Moore\n\n\n\n*ARCC's Cancelation Policy: A registration is a reservation and we look forward to you joining us. To best support our venue partners and event attendees\, a refund for any reservation will require 72 hours notice for cancellation. Reserved no shows will be charged the full price. We encourage you to send a co-worker\, peer\, vendor or customer if you're not able to make it and giving notice wasn't optional.
X-ALT-DESC;FMTTYPE=text/html:Join us for a discussion with your Warren County elected officials. This moderated discussion will begin with opening statements\, followed by questions from the moderator and then the audience. The following Warren County elected officials will be in attendance:<br />\n&nbsp\;<br />\n&nbsp\;&nbsp\;&nbsp\; - Warren County Board of Supervisors Chairman Ron Conover<br />\n&nbsp\;&nbsp\;&nbsp\; - Warren County Budget Officer Supervisor Frank Thomas<br />\n&nbsp\;&nbsp\;&nbsp\; - Warren County Administrator Ryan Moore<br />\n<br />\n<span style="color:#000000\;"><span style="font-size:12px\;"><em>*ARCC&#39\;s Cancelation Policy: A registration is a reservation and we look forward to you joining us. To best support our venue partners and event attendees\, a refund for any reservation will require 72 hours notice for cancellation. Reserved no shows will be charged the full price. We encourage you to send a co-worker\, peer\, vendor or customer if you&#39\;re not able to make it and giving notice wasn&#39\;t optional.</em></span></span>
LOCATION:The Park Theater 14 Park Street Glens Falls\, NY 12801
UID:e.1842.3882
SEQUENCE:3
DTSTAMP:20260422T035754Z
URL:http://business.adirondackchamber.org/events/details/state-of-the-county-warren-county-3882
END:VEVENT

END:VCALENDAR
