BEGIN:VCALENDAR
VERSION:2.0
PRODID:-//ChamberMaster//Event Calendar 2.0//EN
METHOD:PUBLISH
X-PUBLISHED-TTL:P3D
REFRESH-INTERVAL:P3D
CALSCALE:GREGORIAN
BEGIN:VEVENT
DTSTART:20181113T123000Z
DTEND:20181113T140000Z
X-MICROSOFT-CDO-ALLDAYEVENT:FALSE
SUMMARY:State of the County - Warren County
DESCRIPTION:REGISTRATION FOR THIS EVENT IS CLOSED\n\nIf you would like to attend\, you are welcome to come as a walk-in and pay at the door.\n\n\n\nJoin us for a discussion with your Warren County elected officials. This moderated discussion will begin with opening statements\, followed by questions from the moderator and then the audience. The following Warren County elected officials will be in attendance:\n\n\n\n    - Warren County Board of Supervisors Chairman Ron Conover\n\n    - Warren County Budget Officer Supervisor Frank Thomas\n\n    - Warren County Administrator Ryan Moore
X-ALT-DESC;FMTTYPE=text/html:<strong><span style="color:#800000\;">REGISTRATION FOR THIS EVENT IS CLOSED</span></strong><br />\nIf you would like to attend\, you are welcome to come as a walk-in and pay at the door.<br />\n<br />\n<strong>Join us for a discussion with your Warren County elected officials.</strong> This moderated discussion will begin with opening statements\, followed by questions from the moderator and then the audience. The following Warren County elected officials will be in attendance:<br />\n<br />\n&nbsp\;&nbsp\;&nbsp\; - Warren County Board of Supervisors Chairman Ron Conover<br />\n&nbsp\;&nbsp\;&nbsp\; - Warren County Budget Officer Supervisor Frank Thomas<br />\n&nbsp\;&nbsp\;&nbsp\; - Warren County Administrator Ryan Moore
LOCATION:Six Flags Great Escape Lodge 89 Six Flags Drive Queensbury\, NY 12804
UID:e.1842.3490
SEQUENCE:3
DTSTAMP:20260425T011742Z
URL:http://business.adirondackchamber.org/events/details/state-of-the-county-warren-county-3490
END:VEVENT

END:VCALENDAR
