BEGIN:VCALENDAR
VERSION:2.0
PRODID:-//ChamberMaster//Event Calendar 2.0//EN
METHOD:PUBLISH
X-PUBLISHED-TTL:P3D
REFRESH-INTERVAL:P3D
CALSCALE:GREGORIAN
BEGIN:VEVENT
DTSTART:20170808T120000Z
DTEND:20170808T140000Z
X-MICROSOFT-CDO-ALLDAYEVENT:FALSE
SUMMARY:State of the Counties- Warren and Washington
DESCRIPTION:REGISTRATION IS CLOSED FOR THIS EVENT\n\n\n\nJoin us for an update on the state of Warren and Washington Counties.\n\nKevin Geraughty\, Warren County Supervisor and acting Administrator\, and Chris DeBolt Washington County Administrator will be in attendance addressing county business\, budgets and more.\n\n\n\nBring your questions and take this opportunity to engage and be better informed on county decisions and operations and how they may impact your organization.\n\n\n\nBreakfast will be served!\n\n\n\n*ARCC's Cancelation Policy: A registration is a reservation and we look forward to you joining us.  To best support our venue partners and event attendees\, a refund for any reservation will require 72 hours notice for cancellation. Reserved no shows will be charged the full price. We encourage you to send a co-worker\, peer\, vendor or customer if you're not able to make it and giving notice wasn't optional.\n\n\n\nARCC Not Yet Member Attendance Policy\n\nThe Adirondack Regional Chamber of Commerce schedules and hosts some of the MUST ATTEND events in the tri-county region and are Member Only benefits to maximize networking with like-minded\, civic and community leaders that commit to best business practices. To find out why our members grow\, succeed and thrive\, we invite NOT YET Members to attend 1 (one) regularly scheduled event per calendar year at a Not Yet Member admission fee (if applicable). A non-qualifying member is defined as any business and the employees or representatives with unpaid dues for membership of the ARCC.
X-ALT-DESC;FMTTYPE=text/html:<br />\n<strong>REGISTRATION IS CLOSED FOR THIS EVENT</strong><br />\n<br />\nJoin us for an update on the state of Warren and Washington Counties.<br />\nKevin Geraughty\, Warren County Supervisor and acting Administrator\, and Chris DeBolt Washington County Administrator will be in attendance addressing county business\, budgets and more.<br />\n<br />\n<em><span style="color:black\;"><span style="font-family:tahoma\,sans-serif\;"><span style="font-size:14px\;">Bring your questions and take this opportunity to engage and be better informed on county decisions and operations and how they may impact your organization.</span></span></span></em><br />\n<br />\nBreakfast will be served!<br />\n<br />\n<span style="font-family: tahoma\; margin: 0px\; padding: 0px\; outline: 0px\; border-radius: 0px\; border: currentcolor\; left: auto\; top: auto\; width: auto\; height: auto\; right: auto\; bottom: auto\; color: rgb(68\, 68\, 68)\; line-height: 18.9px\; overflow: visible\; clear: none\; font-size: 11px\; vertical-align: baseline\; visibility: inherit\; border-collapse: separate\; position: static\; z-index: auto\; table-layout: auto\; direction: inherit\; max-height: none\; max-width: none\; content: normal\; box-sizing: content-box\; empty-cells: show\; font-stretch: inherit\; opacity: 1\; box-shadow: none\; background-image: none\; resize: none\; outline-offset: 0px\; font-variant-numeric: inherit\;">*</span><span style="font-family: tahoma\; margin: 0px\; padding: 0px\; outline: 0px\; border-radius: 0px\; border: currentcolor\; left: auto\; top: auto\; width: auto\; height: auto\; right: auto\; bottom: auto\; color: rgb(68\, 68\, 68)\; line-height: 15.36px\; overflow: visible\; clear: none\; font-size: 11px\; vertical-align: baseline\; visibility: inherit\; border-collapse: separate\; position: static\; z-index: auto\; table-layout: auto\; direction: inherit\; max-height: none\; max-width: none\; content: normal\; box-sizing: content-box\; empty-cells: show\; font-stretch: inherit\; opacity: 1\; box-shadow: none\; background-image: none\; resize: none\; outline-offset: 0px\; font-variant-numeric: inherit\;">ARCC&#39\;s&nbsp\;Cancelation Policy: A registration is a reservation and we look forward to you joining us. &nbsp\;To best support our venue partners and event attendees\, a refund for any reservation will require 72 hours notice for&nbsp\;cancellation. Reserved no shows will be charged the full price. We encourage you to send a co-worker\, peer\, vendor or customer if you&#39\;re not able to make it and giving notice wasn&#39\;t optional.</span><br style="margin: 0px\; padding: 0px\; border-radius: 0px\; border: currentcolor\; left: auto\; top: auto\; width: auto\; height: auto\; right: auto\; bottom: auto\; color: rgb(68\, 68\, 68)\; line-height: inherit\; overflow: visible\; clear: none\; font-family: arial\; font-size: 12.72px\; vertical-align: baseline\; float: none\; display: inline\; visibility: inherit\; border-collapse: separate\; position: static\; z-index: auto\; table-layout: auto\; direction: inherit\; max-height: none\; max-width: none\; content: normal\; box-sizing: content-box\; empty-cells: show\; font-stretch: inherit\; opacity: 1\; background-image: none\; resize: none\; outline-offset: 0px\; font-variant-numeric: inherit\;" />\n<br style="margin: 0px\; padding: 0px\; border-radius: 0px\; border: currentcolor\; left: auto\; top: auto\; width: auto\; height: auto\; right: auto\; bottom: auto\; color: rgb(68\, 68\, 68)\; line-height: inherit\; overflow: visible\; clear: none\; font-family: arial\; font-size: 12.72px\; vertical-align: baseline\; float: none\; display: inline\; visibility: inherit\; border-collapse: separate\; position: static\; z-index: auto\; table-layout: auto\; direction: inherit\; max-height: none\; max-width: none\; content: normal\; box-sizing: content-box\; empty-cells: show\; font-stretch: inherit\; opacity: 1\; background-image: none\; resize: none\; outline-offset: 0px\; font-variant-numeric: inherit\;" />\n<span style="font-family: tahoma\; margin: 0px\; padding: 0px\; outline: 0px\; border-radius: 0px\; border: currentcolor\; left: auto\; top: auto\; width: auto\; height: auto\; right: auto\; bottom: auto\; color: rgb(68\, 68\, 68)\; line-height: inherit\; overflow: visible\; clear: none\; font-size: 11px\; vertical-align: baseline\; visibility: inherit\; border-collapse: separate\; position: static\; z-index: auto\; table-layout: auto\; direction: inherit\; max-height: none\; max-width: none\; content: normal\; box-sizing: content-box\; empty-cells: show\; font-stretch: inherit\; opacity: 1\; box-shadow: none\; background-image: none\; resize: none\; outline-offset: 0px\; font-variant-numeric: inherit\;">ARCC&nbsp\;Not Yet Member Attendance Policy<br style="background-image: none\; background-position: initial\; background-size: initial\; background-repeat: initial\; background-attachment: initial\; background-origin: initial\; background-clip: initial\; font-style: inherit\; font-variant: inherit\; font-weight: inherit\; font-size: inherit\; line-height: inherit\; font-family: inherit\; margin: 0px\; padding: 0px\; border-radius: 0px\; border: currentcolor\; left: auto\; top: auto\; width: auto\; height: auto\; text-align: inherit\; right: auto\; bottom: auto\; color: inherit\; text-transform: inherit\; text-indent: inherit\; letter-spacing: inherit\; overflow: visible\; clear: none\; word-spacing: inherit\; vertical-align: baseline\; float: none\; display: inline\; white-space: inherit\; visibility: inherit\; border-collapse: separate\; position: static\; z-index: auto\; table-layout: auto\; direction: inherit\; max-height: none\; max-width: none\; content: normal\; box-sizing: content-box\; empty-cells: show\; font-stretch: inherit\; opacity: 1\; resize: none\; outline-offset: 0px\;" />\nThe Adirondack Regional Chamber of Commerce schedules and hosts some of the MUST ATTEND events in the tri-county region and are Member Only benefits to maximize networking with like-minded\, civic and community leaders that commit to best business practices. To find out why our members grow\, succeed and thrive\, we invite NOT YET Members to attend 1 (one) regularly scheduled event per calendar year at a Not Yet Member admission fee (if applicable). A non-qualifying member is defined as any business and the employees or representatives with unpaid dues for membership of the&nbsp\;ARCC.</span><br />\n&nbsp\;
LOCATION:The Glen at Hiland Meadows 39 Longview Drive Queensbury\, NY 12804
UID:e.1842.1079
SEQUENCE:3
DTSTAMP:20260426T022117Z
URL:http://business.adirondackchamber.org/events/details/state-of-the-counties-warren-and-washington-1079
END:VEVENT

END:VCALENDAR
