BEGIN:VCALENDAR
VERSION:2.0
PRODID:-//ChamberMaster//Event Calendar 2.0//EN
METHOD:PUBLISH
X-PUBLISHED-TTL:P3D
REFRESH-INTERVAL:P3D
CALSCALE:GREGORIAN
BEGIN:VEVENT
DTSTART:20180412T120000Z
DTEND:20180412T134500Z
X-MICROSOFT-CDO-ALLDAYEVENT:FALSE
SUMMARY:Speed Networking Breakfast
DESCRIPTION:This Speed Networking event is SOLD OUT! But don't worry\, it will be back in a few months.\n\n\n\nMake the most of your morning with Speed Networking. This event maxes out at 30 attendees\, so register early!\n\n\n\nWhat is Speed Networking?\n\nCome prepared with business cards and a 2-minute speech on your business or organization. You will have 4 minutes to exchange information with another attendee and then move onto the next one. Fast-paced and fun\, plus no awkward moments!\n\n\n\nYou are guaranteed to meet 50% of the attendees and then some with additional networking afterwards over breakfast. Please send only 1 representative per organization or department.\n\n\n\nWhat are ARCC Members saying about Speed Networking?\n\n"The Speed Networking event was one of the best networking events I have attended - you got to talk with everyone. With your typical events\, people group together making it hard to meet new people. This was a great way to meet 90% of the room. I made some great contacts that I would not have met in another setting." - Jennifer Bliss\, Queensbury Hotel\n\n\n\n*ARCC's Cancelation Policy: A registration is a reservation and we look forward to you joining us.  To best support our venue partners and event attendees\, a refund for any reservation will require 72 hours notice for cancellation. Reserved no shows will be charged the full price. We encourage you to send a co-worker\, peer\, vendor or customer if you're not able to make it and giving notice wasn't optional.
X-ALT-DESC;FMTTYPE=text/html:<span style="color:#000000\;"><strong>This Speed Networking event is SOLD OUT!</strong> But don&#39\;t worry\, it will be back in a few months.<br />\n<br />\n<span style="font-family: tahoma\;">Make the most of your morning with Speed Networking. This event maxes out at 30 attendees\, so register early!<br />\n<br />\n<em>What is Speed Networking?</em><br />\nCome prepared with business cards and a 2-minute speech on your business or organization. You will have 4 minutes to exchange information with another attendee and then move onto the next one. Fast-paced and fun\, plus no awkward moments!<br />\n<br />\nYou are guaranteed to meet 50% of the attendees and then some with additional networking afterwards over breakfast. Please send only 1 representative per organization or department.<br />\n<br />\n<em>What are ARCC Members saying about Speed Networking?</em></span><br />\n<span style="font-family: tahoma\;">&quot\;The Speed Networking event was one of the best networking events I have attended - you got to talk with everyone. With your typical events\, people group together making it hard to meet new people. This was a great way to meet 90% of the room. I made some great contacts that I would not have met in another setting.&quot\; <span style="font-size: 10px\;"><span style="font-style: normal\; font-variant-ligatures: normal\; font-variant-caps: normal\; font-weight: 400\; letter-spacing: normal\; text-align: left\; text-indent: 0px\; text-transform: none\; white-space: normal\; word-spacing: 0px\; -webkit-text-stroke-width: 0px\; background-color: rgb(255\, 255\, 255)\; text-decoration-style: initial\; text-decoration-color: initial\; display: inline !important\; float: none\;"><span style="font-size: 12px\;">- Jennifer Bliss\, Queensbury Hotel</span></span></span></span></span><br />\n<br />\n<em style="margin: 0px\; padding: 0px\; border: currentcolor\; outline: 0px\; font-size: 14px\; bottom: auto\; box-sizing: content-box\; clear: none\; color: rgb(0\, 0\, 0)\; content: normal\; direction: inherit\; display: inline\; empty-cells: show\; font-style: italic\; font-variant-ligatures: normal\; font-variant-caps: normal\; font-variant-numeric: inherit\; font-variant-east-asian: inherit\; font-weight: 400\; font-stretch: inherit\; font-family: tahoma\; left: auto\; letter-spacing: normal\; line-height: inherit\; max-height: none\; max-width: none\; min-height: initial\; min-width: initial\; opacity: 1\; outline-offset: 0px\; overflow: visible\; position: static\; resize: none\; right: auto\; table-layout: auto\; text-align: left\; text-decoration: none\; text-indent: 0px\; text-overflow: clip\; text-transform: none\; top: auto\; vertical-align: baseline\; visibility: inherit\; white-space: normal\; word-break: inherit\; word-spacing: 0px\; word-wrap: inherit\; z-index: auto\; background: none rgb(255\, 255\, 255)\; border-collapse: separate\; border-radius: 0px\; height: auto\; width: auto\; box-shadow: none\; orphans: 2\; widows: 2\; -webkit-text-stroke-width: 0px\;"><span style="margin: 0px\; padding: 0px\; border: medium none\; outline: currentcolor none 0px\; font-size: 11px\; bottom: auto\; box-sizing: content-box\; clear: none\; color: inherit\; content: normal\; direction: inherit\; display: inline\; empty-cells: show\; font-style: inherit\; font-variant: inherit\; font-weight: inherit\; font-stretch: inherit\; font-family: inherit\; left: auto\; letter-spacing: inherit\; line-height: inherit\; max-height: none\; max-width: none\; min-height: initial\; min-width: initial\; opacity: 1\; outline-offset: 0px\; overflow: visible\; position: static\; resize: none\; right: auto\; table-layout: auto\; text-align: inherit\; text-decoration: none\; text-indent: inherit\; text-overflow: clip\; text-transform: inherit\; top: auto\; vertical-align: baseline\; visibility: inherit\; white-space: inherit\; word-break: inherit\; word-spacing: inherit\; word-wrap: inherit\; z-index: auto\; background: none 0% 0% repeat scroll rgba(0\, 0\, 0\, 0)\; border-collapse: separate\; border-radius: 0px\; height: auto\; width: auto\; box-shadow: none\;"><span style="margin: 0px\; padding: 0px\; border: medium none\; outline: currentcolor none 0px\; font-size: inherit\; bottom: auto\; box-sizing: content-box\; clear: none\; color: inherit\; content: normal\; direction: inherit\; display: inline\; empty-cells: show\; float: none\; font-style: inherit\; font-variant: inherit\; font-weight: inherit\; font-stretch: inherit\; font-family: inherit\; left: auto\; letter-spacing: inherit\; line-height: 18.9px\; max-height: none\; max-width: none\; min-height: initial\; min-width: initial\; opacity: 1\; outline-offset: 0px\; overflow: visible\; position: static\; resize: none\; right: auto\; table-layout: auto\; text-align: inherit\; text-decoration: none\; text-indent: inherit\; text-overflow: clip\; text-transform: inherit\; top: auto\; vertical-align: baseline\; visibility: inherit\; white-space: inherit\; word-break: inherit\; word-spacing: inherit\; word-wrap: inherit\; z-index: auto\; background: none 0% 0% repeat scroll rgba(0\, 0\, 0\, 0)\; border-collapse: separate\; border-radius: 0px\; height: auto\; width: auto\; box-shadow: none\;">*</span><span style="margin: 0px\; padding: 0px\; border: medium none\; outline: currentcolor none 0px\; font-size: inherit\; bottom: auto\; box-sizing: content-box\; clear: none\; color: inherit\; content: normal\; direction: inherit\; display: inline\; empty-cells: show\; float: none\; font-style: inherit\; font-variant: inherit\; font-weight: inherit\; font-stretch: inherit\; font-family: inherit\; left: auto\; letter-spacing: inherit\; line-height: 15.36px\; max-height: none\; max-width: none\; min-height: initial\; min-width: initial\; opacity: 1\; outline-offset: 0px\; overflow: visible\; position: static\; resize: none\; right: auto\; table-layout: auto\; text-align: inherit\; text-decoration: none\; text-indent: inherit\; text-overflow: clip\; text-transform: inherit\; top: auto\; vertical-align: baseline\; visibility: inherit\; white-space: inherit\; word-break: inherit\; word-spacing: inherit\; word-wrap: inherit\; z-index: auto\; background: none 0% 0% repeat scroll rgba(0\, 0\, 0\, 0)\; border-collapse: separate\; border-radius: 0px\; height: auto\; width: auto\; box-shadow: none\;">ARCC&#39\;s&nbsp\;Cancelation Policy: A registration is a reservation and we look forward to you joining us. &nbsp\;To best support our venue partners and event attendees\, a refund for any reservation will require 72 hours notice for&nbsp\;cancellation. Reserved no shows will be charged the full price. We encourage you to send a co-worker\, peer\, vendor or customer if you&#39\;re not able to make it and giving notice wasn&#39\;t optional.</span></span></em>
LOCATION:Country Inn & Suites Queensbury 1130 State Route 9\, Queensbury\, NY 12804
UID:e.1842.1233
SEQUENCE:3
DTSTAMP:20260425T105550Z
URL:http://business.adirondackchamber.org/events/details/speed-networking-breakfast-1233
END:VEVENT

END:VCALENDAR
