BEGIN:VCALENDAR
VERSION:2.0
PRODID:-//ChamberMaster//Event Calendar 2.0//EN
METHOD:PUBLISH
X-PUBLISHED-TTL:P3D
REFRESH-INTERVAL:P3D
CALSCALE:GREGORIAN
BEGIN:VEVENT
DTSTART:20190911T153000Z
DTEND:20190911T173000Z
X-MICROSOFT-CDO-ALLDAYEVENT:FALSE
SUMMARY:Speed Networking at Battle Hill Brewing
DESCRIPTION:Speed Networking is back! Join us for this fast-paced and fun lunchtime networking event. No awkward moments   this event will guarantee that you meet 50% of the room in a quick exercise\, followed by lunch and additional networking.\n\n\n\nSpeed Networking Guidelines\n\n	Only one (1) representative per business\n	Please be respectful to other attendees and show up on time\n	Remember when you sign up\, it is imperative that you stay for the entire event as the flow of the exercise depends on it\n	Event maxes out at 30 people\n\n****NEW FOR SPEED NETWORKING**** \n\nIn an effort to keep a fair mix of industries and businesses represented\, we will not have a traditional registration set up for this event. The ARCC is asking that if you would like to sign up for Speed Networking\, that you contact Tim Sokol and/or Tricia Rogers directly (see below).  If we have a similar industry or business\, we may add your name to a waiting list for a future Speed Networking event.\n\n \n\nTim Sokol\, Events Manager - 518-798-1761 ext. 220\, tsokol@adirondackchamber.org\n\nTricia Rogers\, Membership Manager - 518-798-1761 ext. 229\, trogers@adirondackchamber.org\n\n\n\n*ARCC's Cancelation Policy: A registration is a reservation and we look forward to you joining us. To best support our venue partners and event attendees\, a refund for any reservation will require 72 hours notice for cancellation. Reserved no shows will be charged the full price. We encourage you to send a co-worker\, peer\, vendor or customer if you're not able to make it and giving notice wasn't optional.
X-ALT-DESC;FMTTYPE=text/html:<strong>Speed Networking is back!</strong> Join us for this fast-paced and fun lunchtime networking event. No awkward moments &ndash\; this event will guarantee that you meet 50% of the room in a quick exercise\, followed by lunch and additional networking.<br />\n<br />\n<u><strong>Speed Networking Guidelines</strong></u>\n<ul>\n	<li>Only one (1) representative per business</li>\n	<li>Please be respectful to other attendees and show up on time</li>\n	<li>Remember when you sign up\, it is imperative that you stay for the entire event as the flow of the exercise depends on it</li>\n	<li>Event maxes out at 30 people</li>\n</ul>\n<strong>****NEW FOR SPEED NETWORKING**** </strong><br />\nIn an effort to keep a fair mix of industries and businesses represented\, we will not have a traditional registration set up for this event. The ARCC is asking that if you would like to sign up for Speed Networking\, that you contact Tim Sokol and/or Tricia Rogers directly (see below).&nbsp\; If we have a similar industry or business\, we may add your name to a waiting list for a future Speed Networking event.<br />\n&nbsp\;<br />\nTim Sokol\, Events Manager - 518-798-1761 ext. 220\, <a href="mailto:tsokol@adirondackchamber.org">tsokol@adirondackchamber.org</a><br />\nTricia Rogers\, Membership Manager - 518-798-1761 ext. 229\, <a href="mailto:trogers@adirondackchamber.org">trogers@adirondackchamber.org</a><br />\n<br />\n<em><span style="margin: 0px\; padding: 0px\; outline: 0px\; border-radius: 0px\; border: currentColor\; border-image: none\; left: auto\; top: auto\; width: auto\; height: auto\; right: auto\; bottom: auto\; color: rgb(68\, 68\, 68)\; line-height: 18.9px\; overflow: visible\; clear: none\; font-family: arial\; font-size: 11px\; vertical-align: baseline\; visibility: inherit\; border-collapse: separate\; position: static\; z-index: auto\; table-layout: auto\; direction: inherit\; -ms-word-break: inherit\; -ms-word-wrap: inherit\; -ms-text-overflow: clip\; max-height: none\; max-width: none\; content: normal\; box-sizing: content-box\; empty-cells: show\; font-stretch: inherit\; opacity: 1\; box-shadow: none\; background-image: none\; resize: none\; outline-offset: 0px\; font-variant-numeric: inherit\;">*</span><span style="margin: 0px\; padding: 0px\; outline: 0px\; border-radius: 0px\; border: currentColor\; border-image: none\; left: auto\; top: auto\; width: auto\; height: auto\; right: auto\; bottom: auto\; color: rgb(68\, 68\, 68)\; line-height: 15.36px\; overflow: visible\; clear: none\; font-family: arial\; font-size: 11px\; vertical-align: baseline\; visibility: inherit\; border-collapse: separate\; position: static\; z-index: auto\; table-layout: auto\; direction: inherit\; -ms-word-break: inherit\; -ms-word-wrap: inherit\; -ms-text-overflow: clip\; max-height: none\; max-width: none\; content: normal\; box-sizing: content-box\; empty-cells: show\; font-stretch: inherit\; opacity: 1\; box-shadow: none\; background-image: none\; resize: none\; outline-offset: 0px\; font-variant-numeric: inherit\;">ARCC&#39\;s&nbsp\;Cancelation Policy: A registration is a reservation and we look forward to you joining us. To best support our venue partners and event attendees\, a refund for any reservation will require 72 hours notice for&nbsp\;cancellation. Reserved no shows will be charged the full price. We encourage you to send a co-worker\, peer\, vendor or customer if you&#39\;re not able to make it and giving notice wasn&#39\;t optional.</span></em>
LOCATION:Battle Hill Brewing 4 Charles Street\, Fort Ann\, NY Just north of the intersection of Rt. 149 and Rt. 4\, in Fort Ann\, NY
UID:e.1842.3841
SEQUENCE:3
DTSTAMP:20260422T072618Z
URL:http://business.adirondackchamber.org/events/details/speed-networking-at-battle-hill-brewing-3841
END:VEVENT

END:VCALENDAR
