BEGIN:VCALENDAR
VERSION:2.0
PRODID:-//ChamberMaster//Event Calendar 2.0//EN
METHOD:PUBLISH
X-PUBLISHED-TTL:P3D
REFRESH-INTERVAL:P3D
CALSCALE:GREGORIAN
BEGIN:VEVENT
DTSTART:20211208T160000Z
DTEND:20211208T170000Z
X-MICROSOFT-CDO-ALLDAYEVENT:FALSE
SUMMARY:Speed Networking 4rd Qtr 2021
DESCRIPTION:Join us for a fun\, fast-paced way to accelerate your business networking!\n\n\n\nWe host members from a variety of business sectors (max 2 per industry) for a virtual meet and mingle\, featuring breakout sessions\, group inspirations and growth opportunities!\n\n\n\nPrepare your best 'elevator pitch' to share knowledge of your brand and business with other professionals in our region.\n\n\n\nTo register for this event\, please email Carol Ann Conover at caconover@adirondackchamber.org. \n\n\n\nNot an ARCC Member yet? \n\nYou're welcome to join us\, meet some current members and learn how the ARCC works for businesses in our region!\n\n \n\n\n\n**Speed Networking Events are capped at 18 participants with a max of 2 persons per similar industry\, so don't delay! Reserve your spot today!\n\n\n\nRegistration full? Don't worry! Request to REGISTER anyway and you'll be added to our waiting list for upcoming Speed Networking Events! \n\nARCC's Virtual Speed Networking is a terrific and safe way to expand your business network through connection and collaboration!\n\n\n\nSee you there!
X-ALT-DESC;FMTTYPE=text/html:<em><strong>Join us for a fun\, fast-paced way to accelerate your business networking!</strong></em><br />\n<br />\nWe host members from a variety of business sectors (max 2 per industry) for a virtual meet and mingle\, featuring breakout sessions\, group inspirations and growth opportunities!<br />\n<br />\nPrepare your best &lsquo\;elevator pitch&rsquo\; to share knowledge of your brand and business with other professionals in our region.<br />\n<br />\n<span style="font-size:16px\;"><strong>To register for this event\, please email Carol Ann Conover at&nbsp\;<a href="mailto:caconover@adirondackchamber.org">caconover@adirondackchamber.org</a>.&nbsp\;</strong></span><br background-color:="" font-size:="" trebuchet="" />\n<br background-color:="" font-size:="" trebuchet="" />\n<strong>Not an ARCC Member yet?&nbsp\;</strong><br background-color:="" font-size:="" trebuchet="" />\nYou&#39\;re welcome to&nbsp\;<a href="mailto:caconover@adirondackchamber.org">join us</a>\, meet some current members and learn how the ARCC works for businesses in our region!<br />\n&nbsp\;<br background-color:="" font-size:="" trebuchet="" />\n<br background-color:="" font-size:="" trebuchet="" />\n<em>**Speed Networking Events are capped at 18 participants with a max of 2 persons per similar industry\, so don&#39\;t delay!&nbsp\;<a href="mailto:caconover@adirondackchamber.org">Reserve your spot today</a>!</em><br background-color:="" font-size:="" trebuchet="" />\n<br background-color:="" font-size:="" trebuchet="" />\nRegistration full? Don&#39\;t worry! Request to&nbsp\;<a href="mailto:caconover@adirondack.org">REGISTER</a>&nbsp\;anyway and you&#39\;ll be added to our waiting list for upcoming Speed Networking Events!&nbsp\;<br />\nARCC&rsquo\;s Virtual Speed Networking is a terrific and safe way to expand your business network through connection and collaboration!<br />\n<br />\nSee you there!<br />\n<br />\n&nbsp\;
LOCATION:Virtual Via Zoom
UID:e.1842.4091
SEQUENCE:3
DTSTAMP:20260420T114553Z
URL:http://business.adirondackchamber.org/events/details/speed-networking-4rd-qtr-2021-4091
END:VEVENT

END:VCALENDAR
