BEGIN:VCALENDAR
VERSION:2.0
PRODID:-//ChamberMaster//Event Calendar 2.0//EN
METHOD:PUBLISH
X-PUBLISHED-TTL:P3D
REFRESH-INTERVAL:P3D
CALSCALE:GREGORIAN
BEGIN:VEVENT
DTSTART:20210812T153000Z
DTEND:20210812T210000Z
X-MICROSOFT-CDO-ALLDAYEVENT:FALSE
SUMMARY:SOLD OUT!!!! ARCC Day at the Track 2021
DESCRIPTION:THIS EVENT IS SOLD OUT! \n\nPlease see our events calendar for other upcoming events and networking opportunities!\n\n\n\n\n\nTRACK SEASON IS BACK!\n\n\n\nPlease join us for a scintillating day of racing and refreshment at the Saratoga Race Track in beautiful Saratoga Springs.  \n\n\n\nThe ARCC team is excited to invite you to our new location this year: The Easy Goer in the Victorian Grandstand!\n\n\n\nThis venue gives us spectacular elevated views of the track from the second-story Victorian Grandstand and puts us right in the action\, keeping us close to betting machines\, cash bars and Grandstand Boutiques!\n\nDon?t miss out on the opportunity to network with other ARCC members all while enjoying a day at the track!\n\n\n\n*ARCC's Cancelation Policy: A registration is a reservation and we look forward to you joining us. To best support our venue partners and event attendees\, a refund for any reservation will require 72 hours notice for cancellation. Reserved no shows will be charged the full price. We encourage you to send a co-worker\, peer\, vendor or customer if you're not able to make it and giving notice wasn't optional.
X-ALT-DESC;FMTTYPE=text/html:<br />\n<strong><span style="color:#B22222\;">THIS EVENT IS SOLD OUT!&nbsp\;<br />\nPlease see our <a href="https://www.adirondackchamber.org/" target="_blank">events calendar</a> for other upcoming events and networking opportunities!</span><br />\n<br />\n<br />\nTRACK SEASON IS BACK!</strong><br />\n<br />\n<span style="color:#000000\;">Please join us for a scintillating day of racing and refreshment at the Saratoga Race Track in beautiful Saratoga Springs. &nbsp\;<br />\n<br />\n<strong>The ARCC team is excited to invite you to our new location this year: The Easy Goer in the Victorian Grandstand!</strong><br />\n<br />\nThis venue gives us spectacular elevated views of the track from the second-story Victorian Grandstand and puts us right in the action\, keeping us close to betting machines\, cash bars and Grandstand Boutiques!<br />\nDon?t miss out on the opportunity to network with other ARCC members all while enjoying a day at the track!</span><br />\n<br />\n<em><strong><span style="margin: 0px\; padding: 0px\; outline: 0px\; border-radius: 0px\; border: currentColor\; border-image: none\; left: auto\; top: auto\; width: auto\; height: auto\; right: auto\; bottom: auto\; color: rgb(68\, 68\, 68)\; line-height: 18.9px\; overflow: visible\; clear: none\; font-family: arial\; font-size: 11px\; vertical-align: baseline\; visibility: inherit\; border-collapse: separate\; position: static\; z-index: auto\; table-layout: auto\; direction: inherit\; -ms-word-break: inherit\; -ms-word-wrap: inherit\; -ms-text-overflow: clip\; max-height: none\; max-width: none\; content: normal\; box-sizing: content-box\; empty-cells: show\; font-stretch: inherit\; opacity: 1\; box-shadow: none\; background-image: none\; resize: none\; outline-offset: 0px\; font-variant-numeric: inherit\;">*</span></strong><span style="margin: 0px\; padding: 0px\; outline: 0px\; border-radius: 0px\; border: currentColor\; border-image: none\; left: auto\; top: auto\; width: auto\; height: auto\; right: auto\; bottom: auto\; color: rgb(68\, 68\, 68)\; line-height: 15.36px\; overflow: visible\; clear: none\; font-family: arial\; font-size: 11px\; vertical-align: baseline\; visibility: inherit\; border-collapse: separate\; position: static\; z-index: auto\; table-layout: auto\; direction: inherit\; -ms-word-break: inherit\; -ms-word-wrap: inherit\; -ms-text-overflow: clip\; max-height: none\; max-width: none\; content: normal\; box-sizing: content-box\; empty-cells: show\; font-stretch: inherit\; opacity: 1\; box-shadow: none\; background-image: none\; resize: none\; outline-offset: 0px\; font-variant-numeric: inherit\;"><strong>ARCC&#39\;s&nbsp\;Cancelation Policy</strong>: A registration is a reservation and we look forward to you joining us. To best support our venue partners and event attendees\, a refund for any reservation will require 72 hours notice for&nbsp\;cancellation. Reserved no shows will be charged the full price. We encourage you to send a co-worker\, peer\, vendor or customer if you&#39\;re not able to make it and giving notice wasn&#39\;t optional.</span></em>
LOCATION:THIS EVENT IS SOLD OUT! Please see our events calendar for other upcoming events and networking opportunities! The Easy Goer at Saratoga Race Track {In the Victorian Grandstand\, 2nd Floor} 267 Union Avenue Saratoga Springs\, NY 12866
UID:e.1842.4077
SEQUENCE:3
DTSTAMP:20260420T180204Z
URL:http://business.adirondackchamber.org/events/details/sold-out-arcc-day-at-the-track-2021-4077
END:VEVENT

END:VCALENDAR
