BEGIN:VCALENDAR
VERSION:2.0
PRODID:-//ChamberMaster//Event Calendar 2.0//EN
METHOD:PUBLISH
X-PUBLISHED-TTL:P3D
REFRESH-INTERVAL:P3D
CALSCALE:GREGORIAN
BEGIN:VEVENT
DTSTART:20210621T130000Z
DTEND:20210621T220000Z
X-MICROSOFT-CDO-ALLDAYEVENT:FALSE
SUMMARY:SOLD OUT - Annual ARCC Golf Tournament 2021
DESCRIPTION:Join us for the 2021 Annual ARCC Golf Tournament at the beautiful Glens Falls Country Club. Four person scramble format. Health & safety guidelines will be adhered to. Details will be available soon.\n\n\n\nTHIS EVENT IS SOLD OUT! \n\n\n\nMonday June 21\, 2021\n\n9:00 - 10:30 am   Registration\n\n11:00 am            Shotgun Start    \n\n5:00 pm              Reception/Raffle Prizes\n\n\n\nRegistration Fees/Admission:\n$225 per person - ARCC Members\n\n$250 per person - Not Yet Members\n\n\n \n\n*ARCC's Cancelation Policy: A registration is a reservation and we look forward to you joining us. To best support our venue partners and event attendees\, a refund for any reservation will require 72 hours notice for cancellation. Reserved no shows will be charged the full price. We encourage you to send a co-worker\, peer\, vendor or customer if you're not able to make it and giving notice wasn't optional.\n\n\n\nARCC Not Yet Member Attendance Policy\n\nThe Adirondack Regional Chamber of Commerce schedules and hosts some of the MUST ATTEND events in the tri-county region and are Member Only benefits to maximize networking with like-minded\, civic and community leaders that commit to best business practices. To find out why our members grow\, succeed and thrive\, we invite NOT YET Members to attend 1 (one) regularly scheduled event per calendar year at a Not Yet Member admission fee (if applicable). A non-qualifying member is defined as any business and the employees or representatives with unpaid dues for membership of the ARCC.
X-ALT-DESC;FMTTYPE=text/html:Join us for the 2021 Annual ARCC Golf Tournament at the beautiful Glens Falls Country Club. Four person scramble format. <strong><em>Health &amp\; safety guidelines will be adhered to. Details will be available soon.</em><br />\n<br />\n<span style="font-size:20px\;"><font color="#ff0000">THIS EVENT IS SOLD OUT!&nbsp\;</font></span></strong><br />\n<br />\n<span style="font-size:16px\;"><strong>Monday June 21\, 2021</strong></span><br />\n<strong>9:00 - 10:30 am</strong> &nbsp\; Registration<br />\n<strong>11:00 am</strong> &nbsp\;&nbsp\;&nbsp\;&nbsp\;&nbsp\;&nbsp\;&nbsp\;&nbsp\;&nbsp\;&nbsp\; Shotgun Start &nbsp\;&nbsp\;&nbsp\;<br />\n<strong>5:00 pm</strong>&nbsp\; &nbsp\;&nbsp\;&nbsp\;&nbsp\;&nbsp\;&nbsp\;&nbsp\;&nbsp\;&nbsp\;&nbsp\;&nbsp\; Reception/Raffle Prizes<br />\n<br />\n<span style="color:#000033\;"><span style="font-size:12px\;"><strong style="color: rgb(51\, 51\, 51)\; font-family: sans-serif\, Arial\, Verdana\, &quot\;Trebuchet MS&quot\;\; font-size: 13px\;">Registration Fees/Admission:</strong></span></span>\n<div><strong style="color: rgb(51\, 51\, 51)\; font-family: sans-serif\, Arial\, Verdana\, &quot\;Trebuchet MS&quot\;\; font-size: 13px\;"><span style="color: rgb(0\, 0\, 255)\;">$225 per person - ARCC Members</span></strong><br style="color: rgb(51\, 51\, 51)\; font-family: sans-serif\, Arial\, Verdana\, &quot\;Trebuchet MS&quot\;\; font-size: 13px\;" />\n<span style="font-family: sans-serif\, Arial\, Verdana\, &quot\;Trebuchet MS&quot\;\; font-size: 13px\; color: rgb(75\, 0\, 130)\;"><strong>$250 per person - Not Yet Members</strong></span></div>\n<br />\n&nbsp\;<br />\n<em><strong><span style="margin: 0px\; padding: 0px\; outline: 0px\; border-radius: 0px\; border: currentColor\; border-image: none\; left: auto\; top: auto\; width: auto\; height: auto\; right: auto\; bottom: auto\; color: rgb(68\, 68\, 68)\; line-height: 18.9px\; overflow: visible\; clear: none\; font-family: arial\; font-size: 11px\; vertical-align: baseline\; visibility: inherit\; border-collapse: separate\; position: static\; z-index: auto\; table-layout: auto\; direction: inherit\; -ms-word-break: inherit\; -ms-word-wrap: inherit\; -ms-text-overflow: clip\; max-height: none\; max-width: none\; content: normal\; box-sizing: content-box\; empty-cells: show\; font-stretch: inherit\; opacity: 1\; box-shadow: none\; background-image: none\; resize: none\; outline-offset: 0px\; font-variant-numeric: inherit\;">*</span></strong><span style="margin: 0px\; padding: 0px\; outline: 0px\; border-radius: 0px\; border: currentColor\; border-image: none\; left: auto\; top: auto\; width: auto\; height: auto\; right: auto\; bottom: auto\; color: rgb(68\, 68\, 68)\; line-height: 15.36px\; overflow: visible\; clear: none\; font-family: arial\; font-size: 11px\; vertical-align: baseline\; visibility: inherit\; border-collapse: separate\; position: static\; z-index: auto\; table-layout: auto\; direction: inherit\; -ms-word-break: inherit\; -ms-word-wrap: inherit\; -ms-text-overflow: clip\; max-height: none\; max-width: none\; content: normal\; box-sizing: content-box\; empty-cells: show\; font-stretch: inherit\; opacity: 1\; box-shadow: none\; background-image: none\; resize: none\; outline-offset: 0px\; font-variant-numeric: inherit\;"><strong>ARCC&#39\;s&nbsp\;Cancelation Policy</strong>: A registration is a reservation and we look forward to you joining us. To best support our venue partners and event attendees\, a refund for any reservation will require 72 hours notice for&nbsp\;cancellation. Reserved no shows will be charged the full price. We encourage you to send a co-worker\, peer\, vendor or customer if you&#39\;re not able to make it and giving notice wasn&#39\;t optional.</span><br style="margin: 0px\; padding: 0px\; border-radius: 0px\; border: currentColor\; border-image: none\; left: auto\; top: auto\; width: auto\; height: auto\; right: auto\; bottom: auto\; color: rgb(68\, 68\, 68)\; line-height: inherit\; overflow: visible\; clear: none\; font-family: arial\; font-size: 12.72px\; vertical-align: baseline\; float: none\; display: inline\; visibility: inherit\; border-collapse: separate\; position: static\; z-index: auto\; table-layout: auto\; direction: inherit\; -ms-word-break: inherit\; -ms-word-wrap: inherit\; -ms-text-overflow: clip\; max-height: none\; max-width: none\; content: normal\; box-sizing: content-box\; empty-cells: show\; font-stretch: inherit\; opacity: 1\; background-image: none\; resize: none\; outline-offset: 0px\; font-variant-numeric: inherit\;" />\n<br style="margin: 0px\; padding: 0px\; border-radius: 0px\; border: currentColor\; border-image: none\; left: auto\; top: auto\; width: auto\; height: auto\; right: auto\; bottom: auto\; color: rgb(68\, 68\, 68)\; line-height: inherit\; overflow: visible\; clear: none\; font-family: arial\; font-size: 12.72px\; vertical-align: baseline\; float: none\; display: inline\; visibility: inherit\; border-collapse: separate\; position: static\; z-index: auto\; table-layout: auto\; direction: inherit\; -ms-word-break: inherit\; -ms-word-wrap: inherit\; -ms-text-overflow: clip\; max-height: none\; max-width: none\; content: normal\; box-sizing: content-box\; empty-cells: show\; font-stretch: inherit\; opacity: 1\; background-image: none\; resize: none\; outline-offset: 0px\; font-variant-numeric: inherit\;" />\n<span style="margin: 0px\; padding: 0px\; outline: 0px\; border-radius: 0px\; border: currentColor\; border-image: none\; left: auto\; top: auto\; width: auto\; height: auto\; right: auto\; bottom: auto\; color: rgb(68\, 68\, 68)\; line-height: inherit\; overflow: visible\; clear: none\; font-family: arial\; font-size: 11px\; vertical-align: baseline\; visibility: inherit\; border-collapse: separate\; position: static\; z-index: auto\; table-layout: auto\; direction: inherit\; -ms-word-break: inherit\; -ms-word-wrap: inherit\; -ms-text-overflow: clip\; max-height: none\; max-width: none\; content: normal\; box-sizing: content-box\; empty-cells: show\; font-stretch: inherit\; opacity: 1\; box-shadow: none\; background-image: none\; resize: none\; outline-offset: 0px\; font-variant-numeric: inherit\;"><strong>ARCC&nbsp\;Not Yet Member Attendance Policy</strong><br style="background: none\; font: inherit\; margin: 0px\; padding: 0px\; border-radius: 0px\; border: currentColor\; border-image: none\; left: auto\; top: auto\; width: auto\; height: auto\; text-align: inherit\; right: auto\; bottom: auto\; color: inherit\; text-transform: inherit\; text-indent: inherit\; letter-spacing: inherit\; overflow: visible\; clear: none\; word-spacing: inherit\; vertical-align: baseline\; float: none\; display: inline\; white-space: inherit\; visibility: inherit\; border-collapse: separate\; position: static\; z-index: auto\; table-layout: auto\; direction: inherit\; -ms-word-break: inherit\; -ms-word-wrap: inherit\; -ms-text-overflow: clip\; max-height: none\; max-width: none\; content: normal\; box-sizing: content-box\; empty-cells: show\; font-size-adjust: inherit\; font-stretch: inherit\; opacity: 1\; resize: none\; outline-offset: 0px\;" />\nThe Adirondack Regional Chamber of Commerce schedules and hosts some of the MUST ATTEND events in the tri-county region and are Member Only benefits to maximize networking with like-minded\, civic and community leaders that commit to best business practices. To find out why our members grow\, succeed and thrive\, we invite NOT YET Members to attend 1 (one) regularly scheduled event per calendar year at a Not Yet Member admission fee (if applicable). A non-qualifying member is defined as any business and the employees or representatives with unpaid dues for membership of the&nbsp\;ARCC.</span></em>
LOCATION:Glens Falls Country Club 211 Round Pond Road Queensbury\, NY 12804
UID:e.1842.4085
SEQUENCE:3
DTSTAMP:20260420T214200Z
URL:http://business.adirondackchamber.org/events/details/sold-out-annual-arcc-golf-tournament-2021-4085
END:VEVENT

END:VCALENDAR
