BEGIN:VCALENDAR
VERSION:2.0
PRODID:-//ChamberMaster//Event Calendar 2.0//EN
METHOD:PUBLISH
X-PUBLISHED-TTL:P3D
REFRESH-INTERVAL:P3D
CALSCALE:GREGORIAN
BEGIN:VEVENT
DTSTART:20181102T113000Z
DTEND:20181102T130000Z
X-MICROSOFT-CDO-ALLDAYEVENT:FALSE
SUMMARY:Solar Power Informational Seminar by Apex Solar
DESCRIPTION:Solar power has created a lot of buzz lately\, but what exactly is it and how does it work? \n\n\n\nApex Solar will help you navigate through the world of solar energy to help you make the decision if it is right for you. Come learn how solar works and have all of your questions answered.\n\n\n\nLight breakfast will be provided.\n\n \n*ARCC's Cancelation Policy: A registration is a reservation and we look forward to you joining us. To best support our venue partners and event attendees\, a refund for any reservation will require 72 hours notice for cancellation. Reserved no shows will be charged the full price. We encourage you to send a co-worker\, peer\, vendor or customer if you're not able to make it and giving notice wasn't optional.
X-ALT-DESC;FMTTYPE=text/html:<span style="color:#000000\;">Solar power has created a lot of buzz lately\, but <em>what exactly is it and how does it work? </em><br />\n<br />\n<a href="https://www.apexsolarpower.com/" target="_blank">Apex Solar</a> will help you navigate through the world of solar energy to help you make the decision if it is right for you. Come learn how solar works and have all of your questions answered.<br />\n<br />\n<strong>Light breakfast will be provided.</strong></span><br />\n&nbsp\;\n<p><span style="font-size:11px\;"><em>*ARCC&#39\;s&nbsp\;Cancelation Policy: A registration is a reservation and we look forward to you joining us. To best support our venue partners and event attendees\, a refund for any reservation will require 72 hours notice for&nbsp\;cancellation. Reserved no shows will be charged the full price. We encourage you to send a co-worker\, peer\, vendor or customer if you&#39\;re not able to make it and giving notice wasn&#39\;t optional.</em></span></p>\n
LOCATION:StoredTech Collaborative Center 543 Queensbury Avenue Queensbury\, NY 12804
UID:e.1842.3456
SEQUENCE:3
DTSTAMP:20260425T000720Z
URL:http://business.adirondackchamber.org/events/details/solar-power-informational-seminar-by-apex-solar-3456
END:VEVENT

END:VCALENDAR
