BEGIN:VCALENDAR
VERSION:2.0
PRODID:-//ChamberMaster//Event Calendar 2.0//EN
METHOD:PUBLISH
X-PUBLISHED-TTL:P3D
REFRESH-INTERVAL:P3D
CALSCALE:GREGORIAN
BEGIN:VEVENT
DTSTART:20170613T113000Z
DTEND:20170613T130000Z
X-MICROSOFT-CDO-ALLDAYEVENT:FALSE
SUMMARY:Small Business Development Series: Your Visual Brand
DESCRIPTION:Small Business Development Series Presents: Your Visual Brand\n\n \nNick Paigo\, Technology Division Chair at SUNY Adirondack and Will Fowler of Sidekick Creative will describe how important graphically branding your business can be. Today's New Media students are learning how to use images to catch customers' attention and promote a brand. Learn some tips and tricks and when to turn to the professionals.\n\n\n\nRegister here.
X-ALT-DESC;FMTTYPE=text/html:<span style="font-size:16px\;"><strong>Small Business Development Series Presents: Your Visual Brand</strong></span><br />\n&nbsp\;\n<div _mce_style="font-family: Tahoma\, Arial\, sans-serif\;" style="color: rgb(0\, 0\, 0)\; font-family: Tahoma\, Arial\, sans-serif\; font-size: 14.6667px\;">Nick Paigo\, Technology Division Chair at SUNY Adirondack and&nbsp\;Will Fowler of Sidekick Creative&nbsp\;will describe how important graphically branding your business can be. Today&#39\;s New Media students are learning how to use images to catch customers&#39\; attention and promote a brand. Learn some tips and tricks and when to turn to the professionals.<br />\n<br />\nRegister <a href="http://www.adirondackchamber.org/events/ical/small-business-development-series-your-visual-brand-1056.ics" target="_blank">here</a>.</div>\n
LOCATION:SUNY Adirondack\, 640 Bay Road\, Queensbury Student Housing/Residence Hall room 170 Click here for campus map.
UID:e.1842.1056
SEQUENCE:3
DTSTAMP:20260426T034257Z
URL:http://business.adirondackchamber.org/events/details/small-business-development-series-your-visual-brand-1056
END:VEVENT

END:VCALENDAR
