BEGIN:VCALENDAR
VERSION:2.0
PRODID:-//ChamberMaster//Event Calendar 2.0//EN
METHOD:PUBLISH
X-PUBLISHED-TTL:P3D
REFRESH-INTERVAL:P3D
CALSCALE:GREGORIAN
BEGIN:VEVENT
DTSTART:20200305T123000Z
DTEND:20200305T140000Z
X-MICROSOFT-CDO-ALLDAYEVENT:FALSE
SUMMARY:Scaling Up Using Social Media Workshop
DESCRIPTION:This event has been rescheduled from its original date of Thursday\, February 27\, 2020. All registrations for the 2/27 scheduled event have been canceled and refunded. If you are interested in attending the March 5th rescheduled event\, you must re-register at the link provided. \n\n\n\n\n\nTom and Bri Lyons\, founders of Glens Falls Living\, have built a modern lifestyle brand dedicated to celebrating life in the Glens Falls area. With more than 73\,000 followers on their Instagram feeds\, Tom and Bri will share tips on how to use the power of social media to grow your business\, whether small or large.\n\n\n\nJoin us for insights\, networking\, and a peek behind the scenes at the inspiration of their brands: @glensfallsiving @theyellownote\, @wheresthewagoneer.\n\n\n\nProgram supported by: SUNY Adirondack Office of Business Central\; Adirondack Regional Chamber of Commerce\; NYS Small Business Development Center at UAlbany\; and Saratoga County Prosperity Partnership
X-ALT-DESC;FMTTYPE=text/html:<strong>This event has been rescheduled from its original date of Thursday\, February 27\, 2020. </strong><em>All registrations for the 2/27 scheduled event have been canceled and refunded. If you are interested in attending the March 5th rescheduled event\, you must re-register at the link provided.&nbsp\;</em><br />\n<br />\n<br />\nTom and Bri Lyons\, founders of&nbsp\;<strong>Glens&nbsp\;Falls&nbsp\;Living</strong>\, have built a modern lifestyle brand dedicated&nbsp\;to celebrating life in the&nbsp\;Glens&nbsp\;Falls&nbsp\;area. With more than 73\,000 followers on their Instagram feeds\, Tom and Bri will share tips on how to use the power of social media to grow your business\, whether small or large.<br />\n<br />\nJoin us for insights\, networking\, and a peek behind the scenes at the inspiration of their brands: @glensfallsiving&nbsp\;@theyellownote\,&nbsp\;@wheresthewagoneer.<br />\n<br />\n<strong>Program supported by</strong>: SUNY Adirondack Office of Business Central\; Adirondack Regional Chamber of Commerce\; NYS Small Business Development Center at UAlbany\; and Saratoga County Prosperity Partnership&nbsp\;<br />\n&nbsp\;
LOCATION:SUNY Adirondack 640 Bay Road Adirondack Hall\, Center for Entrepreneurship Queensbury\, NY 12804
UID:e.1842.3922
SEQUENCE:3
DTSTAMP:20260421T210244Z
URL:http://business.adirondackchamber.org/events/details/scaling-up-using-social-media-workshop-3922
END:VEVENT

END:VCALENDAR
