BEGIN:VCALENDAR
VERSION:2.0
PRODID:-//ChamberMaster//Event Calendar 2.0//EN
METHOD:PUBLISH
X-PUBLISHED-TTL:P3D
REFRESH-INTERVAL:P3D
CALSCALE:GREGORIAN
BEGIN:VEVENT
DTSTART:20180212T210000Z
DTEND:20180212T220000Z
X-MICROSOFT-CDO-ALLDAYEVENT:FALSE
SUMMARY:Ribbon Cutting- Our Little Secret Beauty Bar
DESCRIPTION:Please join us for a Ribbon Cutting /Grand Opening at Our Little Secret Beauty Bar\, located in the Queensbury Hotel.\n\n\n\nAfter the Ribbon Cutting\, join us for raffle prize drawings (bring business cards) and cocktails at Fenimore's.
X-ALT-DESC;FMTTYPE=text/html:Please join us for a Ribbon Cutting /Grand Opening at Our Little Secret Beauty Bar\, located in the Queensbury Hotel.<br />\n<br />\nAfter the Ribbon Cutting\, join us for raffle prize drawings (bring business cards) and cocktails at Fenimore&rsquo\;s.
LOCATION:88 Ridge Street Glens Falls\, NY 12801
UID:e.1842.1135
SEQUENCE:3
DTSTAMP:20260425T135540Z
URL:http://business.adirondackchamber.org/events/details/ribbon-cutting-our-little-secret-beauty-bar-1135
END:VEVENT

END:VCALENDAR
