BEGIN:VCALENDAR
VERSION:2.0
PRODID:-//ChamberMaster//Event Calendar 2.0//EN
METHOD:PUBLISH
X-PUBLISHED-TTL:P3D
REFRESH-INTERVAL:P3D
CALSCALE:GREGORIAN
BEGIN:VEVENT
DTSTART:20210513T150000Z
DTEND:20210513T160000Z
X-MICROSOFT-CDO-ALLDAYEVENT:FALSE
SUMMARY:Ribbon Cutting for WWAMH New Cooper Street Apartments
DESCRIPTION:Join the ARCC and the Warren Washington Association for Mental Health\, Inc. as we celebrate the grand opening of their new Cooper Street Apartments.\n\n\n\n**Face masks/coverings are required\, and social distancing will be practiced**
X-ALT-DESC;FMTTYPE=text/html:Join the ARCC and the Warren Washington Association for Mental Health\, Inc. as we celebrate the grand opening of their new Cooper Street Apartments.<br />\n<br />\n**Face masks/coverings are required\, and social distancing will be practiced**
LOCATION:50 Cooper Street Glens Falls\, NY 12801
UID:e.1842.4100
SEQUENCE:3
DTSTAMP:20260420T215334Z
URL:http://business.adirondackchamber.org/events/details/ribbon-cutting-for-wwamh-new-cooper-street-apartments-4100
END:VEVENT

END:VCALENDAR
