BEGIN:VCALENDAR
VERSION:2.0
PRODID:-//ChamberMaster//Event Calendar 2.0//EN
METHOD:PUBLISH
X-PUBLISHED-TTL:P3D
REFRESH-INTERVAL:P3D
CALSCALE:GREGORIAN
BEGIN:VEVENT
DTSTART:20220628T190000Z
DTEND:20220628T200000Z
X-MICROSOFT-CDO-ALLDAYEVENT:FALSE
SUMMARY:Ribbon Cutting for William Strauss Agency
DESCRIPTION:Join the ARCC as we celebrate the new office location of the William Strauss Agency with a ribbon cutting!\n\n\n\nWilliam Strauss is your local Farmers Insurance  Agent in Glens Falls and the Saratoga Region. Come check out the new space!
X-ALT-DESC;FMTTYPE=text/html:Join the ARCC as we celebrate the new office location of the William Strauss Agency with a ribbon cutting!<br />\n<br />\nWilliam Strauss is your local Farmers Insurance&reg\; Agent in Glens Falls and the Saratoga Region. Come check out the new space!<br />\n&nbsp\;
LOCATION:William Strauss Agency 5 Warren Street Glens Falls\, NY 12801
UID:e.1842.4246
SEQUENCE:3
DTSTAMP:20260420T011211Z
URL:http://business.adirondackchamber.org/events/details/ribbon-cutting-for-william-strauss-agency-4246
END:VEVENT

END:VCALENDAR
