BEGIN:VCALENDAR
VERSION:2.0
PRODID:-//ChamberMaster//Event Calendar 2.0//EN
METHOD:PUBLISH
X-PUBLISHED-TTL:P3D
REFRESH-INTERVAL:P3D
CALSCALE:GREGORIAN
BEGIN:VEVENT
DTSTART:20190627T160000Z
DTEND:20190627T170000Z
X-MICROSOFT-CDO-ALLDAYEVENT:FALSE
SUMMARY:Ribbon Cutting for Wicks from the Sticks
DESCRIPTION:Wicks from the Sticks has moved to their new location in South Glens Falls. Join us for a ribbon cutting to celebrate their new location!
X-ALT-DESC;FMTTYPE=text/html:<span style="color:#000000\;">Wicks from the Sticks has moved to their new location in South Glens Falls. Join us for a ribbon cutting to celebrate their new location!</span>
LOCATION:Wicks from the Sticks 110 Main Street\, Suite 2 South Glens Falls\, NY 12803
UID:e.1842.3729
SEQUENCE:3
DTSTAMP:20260424T135752Z
URL:http://business.adirondackchamber.org/events/details/ribbon-cutting-for-wicks-from-the-sticks-3729
END:VEVENT

END:VCALENDAR
