BEGIN:VCALENDAR
VERSION:2.0
PRODID:-//ChamberMaster//Event Calendar 2.0//EN
METHOD:PUBLISH
X-PUBLISHED-TTL:P3D
REFRESH-INTERVAL:P3D
CALSCALE:GREGORIAN
BEGIN:VEVENT
DTSTART:20220504T190000Z
DTEND:20220504T200000Z
X-MICROSOFT-CDO-ALLDAYEVENT:FALSE
SUMMARY:Ribbon Cutting for Well Child
DESCRIPTION:Join us for a ribbon cutting as we celebrate the opening of a new pediatric psychiatric practice: Well Child.
X-ALT-DESC;FMTTYPE=text/html:Join us for a ribbon cutting as we celebrate the opening of a new pediatric psychiatric practice: Well Child.
LOCATION:92 Broad Street Glens Falls\, NY 12801
UID:e.1842.4234
SEQUENCE:3
DTSTAMP:20260420T023835Z
URL:http://business.adirondackchamber.org/events/details/ribbon-cutting-for-well-child-4234
END:VEVENT

END:VCALENDAR
