BEGIN:VCALENDAR
VERSION:2.0
PRODID:-//ChamberMaster//Event Calendar 2.0//EN
METHOD:PUBLISH
X-PUBLISHED-TTL:P3D
REFRESH-INTERVAL:P3D
CALSCALE:GREGORIAN
BEGIN:VEVENT
DTSTART:20200110T203000Z
DTEND:20200110T210000Z
X-MICROSOFT-CDO-ALLDAYEVENT:FALSE
SUMMARY:Ribbon Cutting for Welcome Wagon
DESCRIPTION:This is going to be a ribbon cutting you won't want to miss!\n\n\n\nWe are celebrating the Welcome Wagon joining the ARCC\, with a ribbon cutting at the new ARCC office. Additionally the Welcome Wagon\, will do what they do best\, and welcome the ARCC to our new office space.
X-ALT-DESC;FMTTYPE=text/html:This is going to be a ribbon cutting you won&rsquo\;t want to miss!<br />\n<br />\nWe are celebrating the Welcome Wagon joining the ARCC\, with a ribbon cutting at the new ARCC office. Additionally the Welcome Wagon\, will do what they do best\, and welcome the ARCC to our new office space.<br />\n&nbsp\;<br />\n&nbsp\;
LOCATION:ARCC Office 68 Warren Street Glens Falls\, NY 12801
UID:e.1842.3897
SEQUENCE:3
DTSTAMP:20260422T020246Z
URL:http://business.adirondackchamber.org/events/details/ribbon-cutting-for-welcome-wagon-3897
END:VEVENT

END:VCALENDAR
