BEGIN:VCALENDAR
VERSION:2.0
PRODID:-//ChamberMaster//Event Calendar 2.0//EN
METHOD:PUBLISH
X-PUBLISHED-TTL:P3D
REFRESH-INTERVAL:P3D
CALSCALE:GREGORIAN
BEGIN:VEVENT
DTSTART:20220714T190000Z
DTEND:20220714T210000Z
X-MICROSOFT-CDO-ALLDAYEVENT:FALSE
SUMMARY:Ribbon Cutting for Wallie's of Greenwich first anniversary!
DESCRIPTION:Wallie's of Greenwich\, under new ownership\, is celebrating their one-year anniversary! Join us as we celebrate the occasion with a ribbon cutting!
X-ALT-DESC;FMTTYPE=text/html:Wallie&#39\;s of Greenwich\, under new ownership\, is celebrating their one-year anniversary! Join us as we celebrate the occasion with a ribbon cutting!<br />\n<br />\n&nbsp\;
LOCATION:Wallie's of Greenwich 54 Main Street Greenwich\, NY 12834
UID:e.1842.4248
SEQUENCE:3
DTSTAMP:20260419T235114Z
URL:http://business.adirondackchamber.org/events/details/ribbon-cutting-for-wallie-s-of-greenwich-first-anniversary-4248
END:VEVENT

END:VCALENDAR
