BEGIN:VCALENDAR
VERSION:2.0
PRODID:-//ChamberMaster//Event Calendar 2.0//EN
METHOD:PUBLISH
X-PUBLISHED-TTL:P3D
REFRESH-INTERVAL:P3D
CALSCALE:GREGORIAN
BEGIN:VEVENT
DTSTART:20211027T211500Z
DTEND:20211027T220000Z
X-MICROSOFT-CDO-ALLDAYEVENT:FALSE
SUMMARY:Ribbon Cutting for WAIT House's Grishkot Outreach Center
DESCRIPTION:WAIT House has established an Outreach Center\, in honor of the late Joan Grishkot. The WAIT House's Grishkot Outreach Center is home to their Street Outreach and Anti-Human Trafficking Programs\, as well as serving as a site where youth staying at WAIT House can meet with case managers\, mental health professionals and other members of their support team. The Grishkot Outreach Center also hosts skill building classes for at-risk youth in our community and is the location of their administrative offices.\n\n\n\nJoin us as we celebrate the opening of the WAIT House Grishkot Outreach Center with a ribbon cutting!
X-ALT-DESC;FMTTYPE=text/html:WAIT House has established an Outreach Center\, in honor of the late Joan Grishkot. The WAIT House&#39\;s Grishkot Outreach Center is home to their Street Outreach and Anti-Human Trafficking Programs\, as well as serving as a site where youth staying at WAIT House can meet with case managers\, mental health professionals and other members of their support team. The Grishkot Outreach Center also hosts skill building classes for at-risk youth in our community and is the location of their administrative offices.<br />\n<br />\nJoin us as we celebrate the opening of the WAIT House Grishkot Outreach Center with a ribbon cutting!
LOCATION:WAIT House 14 West Notre Dame Street Glens Falls\, NY 12801
UID:e.1842.4153
SEQUENCE:3
DTSTAMP:20260422T090558Z
URL:http://business.adirondackchamber.org/events/details/ribbon-cutting-for-wait-house-s-grishkot-outreach-center-4153
END:VEVENT

END:VCALENDAR
