BEGIN:VCALENDAR
VERSION:2.0
PRODID:-//ChamberMaster//Event Calendar 2.0//EN
METHOD:PUBLISH
X-PUBLISHED-TTL:P3D
REFRESH-INTERVAL:P3D
CALSCALE:GREGORIAN
BEGIN:VEVENT
DTSTART:20191210T190000Z
DTEND:20191210T210000Z
X-MICROSOFT-CDO-ALLDAYEVENT:FALSE
SUMMARY:Ribbon Cutting for Upstate Agency Insurance New Office
DESCRIPTION:Upstate Agency\, LLC is pleased to announce the opening of its new headquarters at 103 Main Street in South Glens Falls. The remodeled 9\,000-square foot building unifies team members from separate locations in South Glens Falls and Glens Falls. It will serve as Upstate's corporate offices for all lines of business\, including personal insurance\, commercial insurance and employee benefits. Join the ARCC as we celebrate with a ribbon cutting!
X-ALT-DESC;FMTTYPE=text/html:Upstate Agency\, LLC is pleased to announce the opening of its new headquarters at 103 Main Street in South Glens Falls. The remodeled 9\,000-square foot building unifies team members from separate locations in South Glens Falls and Glens Falls. It will serve as Upstate&rsquo\;s corporate offices for all lines of business\, including personal insurance\, commercial insurance and employee benefits. Join the ARCC as we celebrate with a ribbon cutting!
LOCATION:Upstate Agency 103 Main Street South Glens Falls\, NY 12803
UID:e.1842.3889
SEQUENCE:3
DTSTAMP:20260422T022004Z
URL:http://business.adirondackchamber.org/events/details/ribbon-cutting-for-upstate-agency-insurance-new-office-3889
END:VEVENT

END:VCALENDAR
