BEGIN:VCALENDAR
VERSION:2.0
PRODID:-//ChamberMaster//Event Calendar 2.0//EN
METHOD:PUBLISH
X-PUBLISHED-TTL:P3D
REFRESH-INTERVAL:P3D
CALSCALE:GREGORIAN
BEGIN:VEVENT
DTSTART:20200213T213000Z
DTEND:20200213T223000Z
X-MICROSOFT-CDO-ALLDAYEVENT:FALSE
SUMMARY:Ribbon Cutting for The VERVE of ACEntertainment
DESCRIPTION:Come check out ACEntertainment's new space in Hudson Falls! In addition\, come enjoy some amazing performances by some of their talented students.\n\n\n\nACEntertainment specializes in dance instruction\, vocal & acting coaching\, digital media\, DJ services and more.
X-ALT-DESC;FMTTYPE=text/html:Come check out ACEntertainment&#39\;s new space in Hudson Falls! In addition\, come enjoy some amazing performances by some of their talented students.<br />\n<br />\nACEntertainment specializes in dance instruction\, vocal &amp\; acting coaching\, digital media\, DJ services and more.
LOCATION:ACEntertainment 214 Main Street Hudson Falls\, NY 12839
UID:e.1842.3915
SEQUENCE:3
DTSTAMP:20260421T224828Z
URL:http://business.adirondackchamber.org/events/details/ribbon-cutting-for-the-verve-of-acentertainment-3915
END:VEVENT

END:VCALENDAR
