BEGIN:VCALENDAR
VERSION:2.0
PRODID:-//ChamberMaster//Event Calendar 2.0//EN
METHOD:PUBLISH
X-PUBLISHED-TTL:P3D
REFRESH-INTERVAL:P3D
CALSCALE:GREGORIAN
BEGIN:VEVENT
DTSTART:20181030T160000Z
DTEND:20181030T170000Z
X-MICROSOFT-CDO-ALLDAYEVENT:FALSE
SUMMARY:Ribbon Cutting for the Quarry House Retreat
DESCRIPTION:Please join us for a ribbon cutting with the Quarry House Retreat!
X-ALT-DESC;FMTTYPE=text/html:Please join us for a ribbon cutting with the Quarry House Retreat!&nbsp\;
LOCATION:138 Platt Street Glens Falls\, NY 12801
UID:e.1842.3488
SEQUENCE:3
DTSTAMP:20260425T013324Z
URL:http://business.adirondackchamber.org/events/details/ribbon-cutting-for-the-quarry-house-retreat-3488
END:VEVENT

END:VCALENDAR
