BEGIN:VCALENDAR
VERSION:2.0
PRODID:-//ChamberMaster//Event Calendar 2.0//EN
METHOD:PUBLISH
X-PUBLISHED-TTL:P3D
REFRESH-INTERVAL:P3D
CALSCALE:GREGORIAN
BEGIN:VEVENT
DTSTART:20180418T203000Z
DTEND:20180418T220000Z
X-MICROSOFT-CDO-ALLDAYEVENT:FALSE
SUMMARY:Ribbon Cutting for the Park Theater
DESCRIPTION:Come see the official unveiling of the Park Theater. This historic theater has been going through some major renovations and they can't wait to show it off! Join the ARCC and community as we celebrate their grand opening with a ribbon cutting ceremony. Refreshments and cash bar will be available.
X-ALT-DESC;FMTTYPE=text/html:<span style="color:#000000\;">Come see the official unveiling of the Park Theater. This historic theater has been going through some major renovations and they can&#39\;t wait to show it off! Join the ARCC and community as we celebrate their grand opening with a ribbon cutting ceremony. Refreshments and cash bar will be available.</span>
LOCATION:The Park Theater 14 Park Street\, Glens Falls\, NY 12801
UID:e.1842.1267
SEQUENCE:3
DTSTAMP:20260425T111423Z
URL:http://business.adirondackchamber.org/events/details/ribbon-cutting-for-the-park-theater-1267
END:VEVENT

END:VCALENDAR
