BEGIN:VCALENDAR
VERSION:2.0
PRODID:-//ChamberMaster//Event Calendar 2.0//EN
METHOD:PUBLISH
X-PUBLISHED-TTL:P3D
REFRESH-INTERVAL:P3D
CALSCALE:GREGORIAN
BEGIN:VEVENT
DTSTART:20180523T133000Z
DTEND:20180523T143000Z
X-MICROSOFT-CDO-ALLDAYEVENT:FALSE
SUMMARY:Ribbon Cutting for The Open Door Mission
DESCRIPTION:Join us for a ribbon cutting to celebrate the new location of the amazing Open Door Mission.
X-ALT-DESC;FMTTYPE=text/html:<span style="color:#000000\;">Join us for a ribbon cutting to celebrate the new location of the amazing Open Door Mission.&nbsp\;</span><br />\n&nbsp\;&nbsp\;&nbsp\;&nbsp\;
LOCATION:226 Warren Street Glens Falls\, NY 12801
UID:e.1842.3376
SEQUENCE:3
DTSTAMP:20260425T110751Z
URL:http://business.adirondackchamber.org/events/details/ribbon-cutting-for-the-open-door-mission-3376
END:VEVENT

END:VCALENDAR
