BEGIN:VCALENDAR
VERSION:2.0
PRODID:-//ChamberMaster//Event Calendar 2.0//EN
METHOD:PUBLISH
X-PUBLISHED-TTL:P3D
REFRESH-INTERVAL:P3D
CALSCALE:GREGORIAN
BEGIN:VEVENT
DTSTART:20220124T200000Z
DTEND:20220124T210000Z
X-MICROSOFT-CDO-ALLDAYEVENT:FALSE
SUMMARY:Ribbon Cutting for The Luxury Box
DESCRIPTION:Join the ARCC as we welcome The Luxury Box to the business community with a ribbon cutting! The Luxury Box is a state-of-the-art sports and entertainment facility for friends and family to enjoy. Each suite features golf\, soccer\, baseball\, hockey\, bowling\, foot golf\, frisbee golf and dodgeball. Along with playing sports you can also enjoy watching TV and movies in the comfort of their leather reclining chairs and take your music and entertainment to the next level with their state-of-the-art sound system.\n\n\n\nCome check out some demonstrations of what The Luxury Box can offer for your next party\, event\, or outing!
X-ALT-DESC;FMTTYPE=text/html:Join the ARCC as we welcome The Luxury Box to the business community with a ribbon cutting! The Luxury Box is a state-of-the-art sports and entertainment facility for friends and family to enjoy. Each suite features golf\, soccer\, baseball\, hockey\, bowling\, foot golf\, frisbee golf and dodgeball. Along with playing sports you can also enjoy watching TV and movies in the comfort of their leather reclining chairs and take your music and entertainment to the next level with their state-of-the-art sound system.<br />\n<br />\nCome check out some demonstrations of what The Luxury Box can offer for your next party\, event\, or outing!
LOCATION:The Luxury Box 1042 Route 9 Queensbury\, NY 12804
UID:e.1842.4183
SEQUENCE:3
DTSTAMP:20260420T085720Z
URL:http://business.adirondackchamber.org/events/details/ribbon-cutting-for-the-luxury-box-4183
END:VEVENT

END:VCALENDAR
