BEGIN:VCALENDAR
VERSION:2.0
PRODID:-//ChamberMaster//Event Calendar 2.0//EN
METHOD:PUBLISH
X-PUBLISHED-TTL:P3D
REFRESH-INTERVAL:P3D
CALSCALE:GREGORIAN
BEGIN:VEVENT
DTSTART:20210513T190000Z
DTEND:20210513T200000Z
X-MICROSOFT-CDO-ALLDAYEVENT:FALSE
SUMMARY:Ribbon Cutting for The Hilton Family Farmstand
DESCRIPTION:Join the ARCC as we celebrate the season opening of The Hilton Family Farmstand in Brant Lake!\n\n\n\n**Face masks/coverings are required\, and social distancing will be practiced**
X-ALT-DESC;FMTTYPE=text/html:Join the ARCC as we celebrate the season opening of The Hilton Family Farmstand in Brant Lake!<br />\n<br />\n**Face masks/coverings are required\, and social distancing will be practiced**
LOCATION:The Hilton Family Farmstand 7915 State Route 8 Brant Lake\, NY 12815
UID:e.1842.4094
SEQUENCE:3
DTSTAMP:20260420T233820Z
URL:http://business.adirondackchamber.org/events/details/ribbon-cutting-for-the-hilton-family-farmstand-4094
END:VEVENT

END:VCALENDAR
