BEGIN:VCALENDAR
VERSION:2.0
PRODID:-//ChamberMaster//Event Calendar 2.0//EN
METHOD:PUBLISH
X-PUBLISHED-TTL:P3D
REFRESH-INTERVAL:P3D
CALSCALE:GREGORIAN
BEGIN:VEVENT
DTSTART:20211119T210000Z
DTEND:20211119T220000Z
X-MICROSOFT-CDO-ALLDAYEVENT:FALSE
SUMMARY:Ribbon Cutting for The Eden Center for Integrative Care
DESCRIPTION:The Eden Center for Integrative Care is opening its doors to the community to increase awareness of the services they offer. Join us as we celebrate this new business with a ribbon cutting!
X-ALT-DESC;FMTTYPE=text/html:The Eden Center for Integrative Care is opening its doors to the community to increase awareness of the services they offer. Join us as we celebrate this new business with a ribbon cutting!
LOCATION:The Eden Center for Integrative Care 84 Broad Street Glens Falls\, NY 12801
UID:e.1842.4160
SEQUENCE:3
DTSTAMP:20260420T133602Z
URL:http://business.adirondackchamber.org/events/details/ribbon-cutting-for-the-eden-center-for-integrative-care-4160
END:VEVENT

END:VCALENDAR
