BEGIN:VCALENDAR
VERSION:2.0
PRODID:-//ChamberMaster//Event Calendar 2.0//EN
METHOD:PUBLISH
X-PUBLISHED-TTL:P3D
REFRESH-INTERVAL:P3D
CALSCALE:GREGORIAN
BEGIN:VEVENT
DTSTART:20210802T133000Z
DTEND:20210802T143000Z
X-MICROSOFT-CDO-ALLDAYEVENT:FALSE
SUMMARY:Ribbon Cutting for The Candy Space
DESCRIPTION:Join the ARCC for a ribbon cutting ceremony for The Candy Space\, located in the French Mountain Commons Outlets Center.
X-ALT-DESC;FMTTYPE=text/html:Join the ARCC for a ribbon cutting ceremony for The Candy Space\, located in the French Mountain Commons Outlets Center.<br />\n<br />\n&nbsp\;
LOCATION:The Candy Space French Mountain Commons Outlets Center 1439 State Route 9\, Unit 6 (next to The Gap) Lake George NY 12845
UID:e.1842.4130
SEQUENCE:3
DTSTAMP:20260420T175840Z
URL:http://business.adirondackchamber.org/events/details/ribbon-cutting-for-the-candy-space-4130
END:VEVENT

END:VCALENDAR
