BEGIN:VCALENDAR
VERSION:2.0
PRODID:-//ChamberMaster//Event Calendar 2.0//EN
METHOD:PUBLISH
X-PUBLISHED-TTL:P3D
REFRESH-INTERVAL:P3D
CALSCALE:GREGORIAN
BEGIN:VEVENT
DTSTART:20210624T200000Z
DTEND:20210624T220000Z
X-MICROSOFT-CDO-ALLDAYEVENT:FALSE
SUMMARY:Ribbon Cutting for The Bond 1786
DESCRIPTION:Join us for the Inauguration & the Grand Re-launch of "The Bond 1786"\, historically known as the "Merrill Magee House". This special event will include the Ribbon Cutting\, followed by cocktails & signature appetizers\, introductions and a tour of the entire property.
X-ALT-DESC;FMTTYPE=text/html:<span style="color:#222222\;">Join us for the Inauguration &amp\; the Grand Re-launch of &ldquo\;<strong>The Bond 1786</strong>&rdquo\;\, historically known as the &ldquo\;Merrill Magee House&rdquo\;. This </span><span style="color:black\;">special event will include the</span><span style="color:#222222\;"> Ribbon Cutting\, followed by cocktails &amp\; signature appetizers\, introductions and a tour of the entire property.</span><br />\n&nbsp\;
LOCATION:The Bond 1786 3 Hudson Street Warrensburg\, NY 12885
UID:e.1842.4128
SEQUENCE:3
DTSTAMP:20260420T200303Z
URL:http://business.adirondackchamber.org/events/details/ribbon-cutting-for-the-bond-1786-4128
END:VEVENT

END:VCALENDAR
