BEGIN:VCALENDAR
VERSION:2.0
PRODID:-//ChamberMaster//Event Calendar 2.0//EN
METHOD:PUBLISH
X-PUBLISHED-TTL:P3D
REFRESH-INTERVAL:P3D
CALSCALE:GREGORIAN
BEGIN:VEVENT
DTSTART:20211213T190000Z
DTEND:20211213T200000Z
X-MICROSOFT-CDO-ALLDAYEVENT:FALSE
SUMMARY:Ribbon Cutting for The Atrium Financial Group
DESCRIPTION:The Atrium Financial Group\, which has a main office in Albany\, is announcing its permanent presence in Glens Falls. Join us as we celebrate with a ribbon cutting!
X-ALT-DESC;FMTTYPE=text/html:The Atrium Financial Group\, which has a main office in Albany\, is announcing its permanent presence in Glens Falls. Join us as we celebrate with a ribbon cutting!
LOCATION:11 South Street Glens Falls\, NY 12801
UID:e.1842.4163
SEQUENCE:3
DTSTAMP:20260420T103054Z
URL:http://business.adirondackchamber.org/events/details/ribbon-cutting-for-the-atrium-financial-group-4163
END:VEVENT

END:VCALENDAR
