BEGIN:VCALENDAR
VERSION:2.0
PRODID:-//ChamberMaster//Event Calendar 2.0//EN
METHOD:PUBLISH
X-PUBLISHED-TTL:P3D
REFRESH-INTERVAL:P3D
CALSCALE:GREGORIAN
BEGIN:VEVENT
DTSTART:20181120T210000Z
DTEND:20181120T230000Z
X-MICROSOFT-CDO-ALLDAYEVENT:FALSE
SUMMARY:Ribbon Cutting for the American Red Cross of Eastern NY Region
DESCRIPTION:Please join us to celebrate a ribbon cutting for the American Red Cross of Eastern NY Region. The American Red Cross is proud to unveil their new office in downtown Glens Falls. Join in the celebration!
X-ALT-DESC;FMTTYPE=text/html:Please join us to celebrate a ribbon cutting for the American Red Cross of Eastern NY Region. The American Red Cross is proud to unveil their new office in downtown Glens Falls. Join in the celebration!
LOCATION:333 Glen Street\, Suite 104 Glens Falls\, NY 12801
UID:e.1842.3500
SEQUENCE:3
DTSTAMP:20260425T003057Z
URL:http://business.adirondackchamber.org/events/details/ribbon-cutting-for-the-american-red-cross-of-eastern-ny-region-3500
END:VEVENT

END:VCALENDAR
