BEGIN:VCALENDAR
VERSION:2.0
PRODID:-//ChamberMaster//Event Calendar 2.0//EN
METHOD:PUBLISH
X-PUBLISHED-TTL:P3D
REFRESH-INTERVAL:P3D
CALSCALE:GREGORIAN
BEGIN:VEVENT
DTSTART:20170824T150000Z
DTEND:20170824T160000Z
X-MICROSOFT-CDO-ALLDAYEVENT:FALSE
SUMMARY:Ribbon Cutting for TD Bank Maple Street
DESCRIPTION:TD Bank is celebrating the new renovations to their Maple Street branch location. Open house is from 8:30 am - 4:00 pm and the ribbon cutting is at 11:00 am. Refreshments will be served.
X-ALT-DESC;FMTTYPE=text/html:TD Bank is celebrating the new renovations to their Maple Street branch location. Open house is from 8:30 am - 4:00 pm and the ribbon cutting is at 11:00 am. Refreshments will be served.
LOCATION:28 Maple Street Glens Falls\, NY 12801
UID:e.1842.1077
SEQUENCE:3
DTSTAMP:20260426T004652Z
URL:http://business.adirondackchamber.org/events/details/ribbon-cutting-for-td-bank-maple-street-1077
END:VEVENT

END:VCALENDAR
