BEGIN:VCALENDAR
VERSION:2.0
PRODID:-//ChamberMaster//Event Calendar 2.0//EN
METHOD:PUBLISH
X-PUBLISHED-TTL:P3D
REFRESH-INTERVAL:P3D
CALSCALE:GREGORIAN
BEGIN:VEVENT
DTSTART:20190425T160000Z
DTEND:20190425T170000Z
X-MICROSOFT-CDO-ALLDAYEVENT:FALSE
SUMMARY:Ribbon Cutting for TD Bank
DESCRIPTION:TD Bank\, on Quaker Road\, has gone through some impressive renovations. They invite you to come check out all of their updates\, anytime from 8:30 am - 4:00 pm. Refreshments will be served. ARCC Ribbon Cutting is scheduled for 12:00 pm.
X-ALT-DESC;FMTTYPE=text/html:<span style="color:#000000\;">TD Bank\, on Quaker Road\, has gone through some impressive renovations. They invite you to come check out all of their updates\, anytime from 8:30 am - 4:00 pm. Refreshments will be served. ARCC Ribbon Cutting is scheduled for 12:00 pm.</span>
LOCATION:TD Bank 54 Quaker Road Queensbury\, NY 12804
UID:e.1842.3669
SEQUENCE:3
DTSTAMP:20260424T153327Z
URL:http://business.adirondackchamber.org/events/details/ribbon-cutting-for-td-bank-3669
END:VEVENT

END:VCALENDAR
