BEGIN:VCALENDAR
VERSION:2.0
PRODID:-//ChamberMaster//Event Calendar 2.0//EN
METHOD:PUBLISH
X-PUBLISHED-TTL:P3D
REFRESH-INTERVAL:P3D
CALSCALE:GREGORIAN
BEGIN:VEVENT
DTSTART:20170823T203000Z
DTEND:20170823T210000Z
X-MICROSOFT-CDO-ALLDAYEVENT:FALSE
SUMMARY:Ribbon Cutting for Sweets by Marisa
DESCRIPTION:Join the ARCC CommUnity as we celebrate Marisa's new store front. Sweet samples will be available!
X-ALT-DESC;FMTTYPE=text/html:Join the ARCC CommUnity as we celebrate Marisa&#39\;s new store front. Sweet samples will be available!
LOCATION:217 Dix Ave\, Glens Falls\, NY 12801
UID:e.1842.1090
SEQUENCE:3
DTSTAMP:20260426T004354Z
URL:http://business.adirondackchamber.org/events/details/ribbon-cutting-for-sweets-by-marisa-1090
END:VEVENT

END:VCALENDAR
