BEGIN:VCALENDAR
VERSION:2.0
PRODID:-//ChamberMaster//Event Calendar 2.0//EN
METHOD:PUBLISH
X-PUBLISHED-TTL:P3D
REFRESH-INTERVAL:P3D
CALSCALE:GREGORIAN
BEGIN:VEVENT
DTSTART:20211116T190000Z
DTEND:20211116T193000Z
X-MICROSOFT-CDO-ALLDAYEVENT:FALSE
SUMMARY:Ribbon Cutting for Sustainable PR
DESCRIPTION:Sustainable PR is celebrating their one year launch anniversary with a newly leased and furnished office space.  Join us as we celebrate with a ribbon cutting!
X-ALT-DESC;FMTTYPE=text/html:Sustainable PR is celebrating their one year launch anniversary with a newly leased and furnished office space.&nbsp\; Join us as we celebrate with a ribbon cutting!
LOCATION:46 Elm Street\, Suite 200 (second floor) Glens Falls\, NY 12801
UID:e.1842.4162
SEQUENCE:3
DTSTAMP:20260420T120648Z
URL:http://business.adirondackchamber.org/events/details/ribbon-cutting-for-sustainable-pr-4162
END:VEVENT

END:VCALENDAR
