BEGIN:VCALENDAR
VERSION:2.0
PRODID:-//ChamberMaster//Event Calendar 2.0//EN
METHOD:PUBLISH
X-PUBLISHED-TTL:P3D
REFRESH-INTERVAL:P3D
CALSCALE:GREGORIAN
BEGIN:VEVENT
DTSTART:20170908T201500Z
DTEND:20170908T210000Z
X-MICROSOFT-CDO-ALLDAYEVENT:FALSE
SUMMARY:Ribbon Cutting for SUNY Adirondack Science Center
DESCRIPTION:Come help celebrate the new addition to the Science Center at  SUNY Adirondack.  \n\nAfter the ribbon cutting\, tours of the new building will be available.
X-ALT-DESC;FMTTYPE=text/html:Come help celebrate the new addition to the Science Center at &nbsp\;SUNY Adirondack. &nbsp\;<br />\nAfter the ribbon cutting\, tours of the new building will be available.
LOCATION:640 Bay Road Queensbury\, NY 12804
UID:e.1842.1083
SEQUENCE:3
DTSTAMP:20260426T004559Z
URL:http://business.adirondackchamber.org/events/details/ribbon-cutting-for-suny-adirondack-science-center-1083
END:VEVENT

END:VCALENDAR
