BEGIN:VCALENDAR
VERSION:2.0
PRODID:-//ChamberMaster//Event Calendar 2.0//EN
METHOD:PUBLISH
X-PUBLISHED-TTL:P3D
REFRESH-INTERVAL:P3D
CALSCALE:GREGORIAN
BEGIN:VEVENT
DTSTART:20190328T193000Z
DTEND:20190328T203000Z
X-MICROSOFT-CDO-ALLDAYEVENT:FALSE
SUMMARY:Ribbon Cutting for StoredTech
DESCRIPTION:StoredTech is expanding! Come check out the remodel and expansion of an already impressive space.
X-ALT-DESC;FMTTYPE=text/html:<span style="color:#000000\;">StoredTech is expanding! Come check out the remodel and expansion of an already impressive space.</span><br />\n&nbsp\;
LOCATION:StoredTech 543 Queensbury Avenue Queensbury\, NY 12804
UID:e.1842.3654
SEQUENCE:3
DTSTAMP:20260424T173407Z
URL:http://business.adirondackchamber.org/events/details/ribbon-cutting-for-storedtech-3654
END:VEVENT

END:VCALENDAR
