BEGIN:VCALENDAR
VERSION:2.0
PRODID:-//ChamberMaster//Event Calendar 2.0//EN
METHOD:PUBLISH
X-PUBLISHED-TTL:P3D
REFRESH-INTERVAL:P3D
CALSCALE:GREGORIAN
BEGIN:VEVENT
DTSTART:20190910T193000Z
DTEND:20190910T200000Z
X-MICROSOFT-CDO-ALLDAYEVENT:FALSE
SUMMARY:Ribbon Cutting for Sound Solutions
DESCRIPTION:Sound Solutions is excited to be opening their new location in Gansevoort. Join us for a ribbon cutting!\n\n\n\nSound Solutions focuses on audio and video installation\, training and production.
X-ALT-DESC;FMTTYPE=text/html:Sound Solutions is excited to be opening their new location in Gansevoort. Join us for a ribbon cutting!<br />\n<br />\nSound Solutions focuses on audio and video installation\, training and production.
LOCATION:Sound Solutions 39 Northern Pines Road Gansevoort\, NY 12831
UID:e.1842.3840
SEQUENCE:3
DTSTAMP:20260422T072904Z
URL:http://business.adirondackchamber.org/events/details/ribbon-cutting-for-sound-solutions-3840
END:VEVENT

END:VCALENDAR
