BEGIN:VCALENDAR
VERSION:2.0
PRODID:-//ChamberMaster//Event Calendar 2.0//EN
METHOD:PUBLISH
X-PUBLISHED-TTL:P3D
REFRESH-INTERVAL:P3D
CALSCALE:GREGORIAN
BEGIN:VEVENT
DTSTART:20190719T201500Z
DTEND:20190719T210000Z
X-MICROSOFT-CDO-ALLDAYEVENT:FALSE
SUMMARY:Ribbon Cutting for SlickFin Brewing Company
DESCRIPTION:SlickFin Brewing Company LLC is a Marine Corps Veteran owned and operated one barrel microbrewery. They brew small by the barrel to ensure all of their Artisanal Crafts are made with the highest quality ingredients and care. \n\n\n\nJoin us for a ribbon cutting!
X-ALT-DESC;FMTTYPE=text/html:SlickFin Brewing Company LLC is a Marine Corps Veteran owned and operated one barrel microbrewery. They brew small by the barrel to ensure all of their Artisanal Crafts are made with the highest quality ingredients and care.&nbsp\;<br />\n<br />\nJoin us for a ribbon cutting!
LOCATION:SlickFin Brewing Company 147 Broadway Fort Edward\, NY 12828
UID:e.1842.3830
SEQUENCE:3
DTSTAMP:20260422T121002Z
URL:http://business.adirondackchamber.org/events/details/ribbon-cutting-for-slickfin-brewing-company-3830
END:VEVENT

END:VCALENDAR
