BEGIN:VCALENDAR
VERSION:2.0
PRODID:-//ChamberMaster//Event Calendar 2.0//EN
METHOD:PUBLISH
X-PUBLISHED-TTL:P3D
REFRESH-INTERVAL:P3D
CALSCALE:GREGORIAN
BEGIN:VEVENT
DTSTART:20210610T170000Z
DTEND:20210610T180000Z
X-MICROSOFT-CDO-ALLDAYEVENT:FALSE
SUMMARY:Ribbon Cutting for Skin Renaissance Spa
DESCRIPTION:Join the ARCC as we welcome Skin Renaissance Spa to the business community with a ribbon cutting!\n\n\n\nSkin Renaissance Spa offers treatments that promote wellness\, from facials to peels\, and microdermabrasion and oxygen infusion. Come by and check it out!
X-ALT-DESC;FMTTYPE=text/html:Join the ARCC as we welcome Skin Renaissance Spa to the business community with a ribbon cutting!<br />\n<br />\nSkin Renaissance Spa offers treatments that promote wellness\, from facials to peels\, and microdermabrasion and oxygen infusion. Come by and check it out!
LOCATION:142 Saratoga Avenue South Glens Falls\, NY 12803
UID:e.1842.4117
SEQUENCE:3
DTSTAMP:20260420T215106Z
URL:http://business.adirondackchamber.org/events/details/ribbon-cutting-for-skin-renaissance-spa-4117
END:VEVENT

END:VCALENDAR
