BEGIN:VCALENDAR
VERSION:2.0
PRODID:-//ChamberMaster//Event Calendar 2.0//EN
METHOD:PUBLISH
X-PUBLISHED-TTL:P3D
REFRESH-INTERVAL:P3D
CALSCALE:GREGORIAN
BEGIN:VEVENT
DTSTART:20170601T193000Z
DTEND:20170601T200000Z
X-MICROSOFT-CDO-ALLDAYEVENT:FALSE
SUMMARY:Ribbon Cutting for Simons Heating and Cooling
DESCRIPTION:Simons Heating and Cooling is celebrating 11 years of service to the community! Join the ARCC for this momentous occasion.
X-ALT-DESC;FMTTYPE=text/html:<span style="color: rgb(29\, 33\, 41)\; font-family: Helvetica\, Arial\, sans-serif\; font-size: 12px\; white-space: pre-wrap\;">Simons Heating and Cooling is celebrating 11 years of service to the community! Join the ARCC for this momentous occasion.</span>
LOCATION:Simons Heating and Cooling 47 Main Street Queensbury\, NY
UID:e.1842.1039
SEQUENCE:3
DTSTAMP:20260426T034755Z
URL:http://business.adirondackchamber.org/events/details/ribbon-cutting-for-simons-heating-and-cooling-1039
END:VEVENT

END:VCALENDAR
