BEGIN:VCALENDAR
VERSION:2.0
PRODID:-//ChamberMaster//Event Calendar 2.0//EN
METHOD:PUBLISH
X-PUBLISHED-TTL:P3D
REFRESH-INTERVAL:P3D
CALSCALE:GREGORIAN
BEGIN:VEVENT
DTSTART:20191213T210000Z
DTEND:20191213T220000Z
X-MICROSOFT-CDO-ALLDAYEVENT:FALSE
SUMMARY:Ribbon Cutting for Sidekick Creative
DESCRIPTION:Sidekick Creative\, a small but mighty design agency\, has moved their location to the Shirt Factory in Glens Falls. Join us as we celebrate their new location with a ribbon cutting!
X-ALT-DESC;FMTTYPE=text/html:Sidekick Creative\, a small but mighty design agency\, has moved their location to the Shirt Factory in Glens Falls. Join us as we celebrate their new location with a ribbon cutting!
LOCATION:Sidekick Creative The Shirt Factory\, 71 Lawrence Street\, Suite 202\, Glens Falls\, NY 12801
UID:e.1842.3878
SEQUENCE:3
DTSTAMP:20260422T020859Z
URL:http://business.adirondackchamber.org/events/details/ribbon-cutting-for-sidekick-creative-3878
END:VEVENT

END:VCALENDAR
